BEGIN:VCALENDAR
VERSION:2.0
PRODID:-//Hopetoun - ECPv6.15.15//NONSGML v1.0//EN
CALSCALE:GREGORIAN
METHOD:PUBLISH
X-WR-CALNAME:Hopetoun
X-ORIGINAL-URL:https://hopetoun.co.uk
X-WR-CALDESC:Events for Hopetoun
REFRESH-INTERVAL;VALUE=DURATION:PT1H
X-Robots-Tag:noindex
X-PUBLISHED-TTL:PT1H
BEGIN:VTIMEZONE
TZID:UTC
BEGIN:STANDARD
TZOFFSETFROM:+0000
TZOFFSETTO:+0000
TZNAME:UTC
DTSTART:20150101T000000
END:STANDARD
END:VTIMEZONE
BEGIN:VEVENT
DTSTART;TZID=UTC:20160124T100000
DTEND;TZID=UTC:20160124T130000
DTSTAMP:20260425T223949
CREATED:20151207T143942Z
LAST-MODIFIED:20151207T143942Z
UID:2549-1453629600-1453640400@hopetoun.co.uk
SUMMARY:Winter Hike
DESCRIPTION:Wrap up against the winter weather and join the Hopetoun Ranger on a hike through the wintery grounds and further afield to enjoy the views through the sparse tree branches. This is a great chance to blow the cobwebs away and enjoy a rare opportunity to see Hopetoun during the closed season. \nCost: Grounds entry fee £4.25 adult £2.50 child \nBOOKING ESSENTIAL. Please contact the ranger service on: ranger@hopetoun.co.uk or 0131 3193956
URL:https://hopetoun.co.uk/event/winter-hike/
LOCATION:Hopetoun House\, Hopetoun House\, South Queensferry\, City of Edinburgh\, EH30 9SL\, United Kingdom
END:VEVENT
END:VCALENDAR