BEGIN:VCALENDAR
VERSION:2.0
PRODID:-//Hopetoun - ECPv6.15.15//NONSGML v1.0//EN
CALSCALE:GREGORIAN
METHOD:PUBLISH
X-WR-CALNAME:Hopetoun
X-ORIGINAL-URL:https://hopetoun.co.uk
X-WR-CALDESC:Events for Hopetoun
REFRESH-INTERVAL;VALUE=DURATION:PT1H
X-Robots-Tag:noindex
X-PUBLISHED-TTL:PT1H
BEGIN:VTIMEZONE
TZID:UTC
BEGIN:STANDARD
TZOFFSETFROM:+0000
TZOFFSETTO:+0000
TZNAME:UTC
DTSTART:20150101T000000
END:STANDARD
END:VTIMEZONE
BEGIN:VEVENT
DTSTART;TZID=UTC:20160312T120000
DTEND;TZID=UTC:20160313T160000
DTSTAMP:20260425T195132
CREATED:20160225T125042Z
LAST-MODIFIED:20160312T225300Z
UID:2855-1457784000-1457884800@hopetoun.co.uk
SUMMARY:Pie Tastings at the Farm Shop
DESCRIPTION:It’s British Pie Week and also the 2nd anniversary of when our farm shop launched their own range of homemade pies. \nTo celebrate come along and enjoy some free tastings of the shop’s three new pies that have just launched.  Try their Lamb Curry Pie which is made with minced Hopetoun lamb from the estate\, the Chicken Curry Pie made with our own free range chicken and also try the new Macaroni Pie which is made fresh in-store with their own homemade indulgent cheese sauce! \nFree samples will be available in-store from 12pm until 4pm on both Saturday 12th and Sunday 13th March.
URL:https://hopetoun.co.uk/event/pie-tastings-at-the-farm-shop/
LOCATION:Hopetoun Farm Shop
CATEGORIES:Food and Drink
ATTACH;FMTTYPE=image/jpeg:https://hopetoun.co.uk/wp-hopetoun-house/wp-content/uploads/lamb-pies.jpg
END:VEVENT
END:VCALENDAR