BEGIN:VCALENDAR
VERSION:2.0
PRODID:-//Hopetoun - ECPv6.15.15//NONSGML v1.0//EN
CALSCALE:GREGORIAN
METHOD:PUBLISH
X-WR-CALNAME:Hopetoun
X-ORIGINAL-URL:https://hopetoun.co.uk
X-WR-CALDESC:Events for Hopetoun
REFRESH-INTERVAL;VALUE=DURATION:PT1H
X-Robots-Tag:noindex
X-PUBLISHED-TTL:PT1H
BEGIN:VTIMEZONE
TZID:Europe/London
BEGIN:DAYLIGHT
TZOFFSETFROM:+0000
TZOFFSETTO:+0100
TZNAME:BST
DTSTART:20150329T010000
END:DAYLIGHT
BEGIN:STANDARD
TZOFFSETFROM:+0100
TZOFFSETTO:+0000
TZNAME:GMT
DTSTART:20151025T010000
END:STANDARD
BEGIN:DAYLIGHT
TZOFFSETFROM:+0000
TZOFFSETTO:+0100
TZNAME:BST
DTSTART:20160327T010000
END:DAYLIGHT
BEGIN:STANDARD
TZOFFSETFROM:+0100
TZOFFSETTO:+0000
TZNAME:GMT
DTSTART:20161030T010000
END:STANDARD
BEGIN:DAYLIGHT
TZOFFSETFROM:+0000
TZOFFSETTO:+0100
TZNAME:BST
DTSTART:20170326T010000
END:DAYLIGHT
BEGIN:STANDARD
TZOFFSETFROM:+0100
TZOFFSETTO:+0000
TZNAME:GMT
DTSTART:20171029T010000
END:STANDARD
END:VTIMEZONE
BEGIN:VEVENT
DTSTART;TZID=Europe/London:20160708T110000
DTEND;TZID=Europe/London:20160718T163000
DTSTAMP:20260425T114231
CREATED:20160630T101028Z
LAST-MODIFIED:20160708T135604Z
UID:3159-1467975600-1468859400@hopetoun.co.uk
SUMMARY:Exhibition at Hopetoun
DESCRIPTION:Exhibition  \nThe Carriage Room\, Hopetoun House \nFriday 8th July – Monday 18th July 2016 \nOpening times: 11am – 4.30pm each day \nThree well-known Scottish artists will present a rich and decorative exhibition of their paintings\, prints and ceramic works in the Carriage Room at Hopetoun House. \nArtists Jean Hall\, Esther Cohen and Ian Henderson have brought together a visually stunning range of works that spans the disciplines of traditional pottery and ceramics\, printmaking and painting. \nJean Hall is well known in Scotland for her contemplative oriental-inspired paintings that feature rich still life arrangements and calm figurative compositions. \n  \nEsther Cohen works in ceramics\, print and photography and will present a series of hand-made tiles and prints that explore her love of the fluid Scottish sky. \n  \nIan Henderson is a potter and ceramic artist who produces stoneware and porcelain bowls around a distinctly oriental theme. Brightly decorated bowls\, plates\, jars and jugs will complement this unique collaboration. \n  \nEntry to this exhibition is free.
URL:https://hopetoun.co.uk/event/3159/
LOCATION:Hopetoun House\, Hopetoun House\, South Queensferry\, City of Edinburgh\, EH30 9SL\, United Kingdom
CATEGORIES:Visiting Hopetoun House
ATTACH;FMTTYPE=image/jpeg:https://hopetoun.co.uk/wp-hopetoun-house/wp-content/uploads/combine-image.jpg
END:VEVENT
BEGIN:VEVENT
DTSTART;TZID=Europe/London:20160710T190000
DTEND;TZID=Europe/London:20160710T210000
DTSTAMP:20260425T114231
CREATED:20160324T123908Z
LAST-MODIFIED:20160525T143054Z
UID:2970-1468177200-1468184400@hopetoun.co.uk
SUMMARY:The Railway Children
DESCRIPTION:Chapterhouse Theatre Company proudly presents The Railway Children\, the unforgettable and heart-warming story of adventure and family set in the heart of the Yorkshire countryside. \nThe lives of three children are changed forever by the mysterious disappearance of their father. Finding a new home in a beautiful but isolated village the children make new friends and discover the wonders of the Yorkshire hills and the railway lines scattered throughout them. E. Nesbit’s classic story has delighted adults and children alike for generations and is now brought to life for new audiences in this wonderful production presented in some of the UK and Ireland’s most beautiful open-air venues. With stunning period costume\, traditional music and songs and a whole host of unforgettable characters\, The Railway Children is a treat for all the family\, perfect for a summer evening’s entertainment. \nSunday 10th July\, 7.00pm. Gates open at 6.00pm. Please bring your own rugs or low-backed seating.\nAdult £14 / Child £10 / Family (2 Adults & 2 Children) £42\n10% discount for parties of 10 or more \n  \nTickets and Information from \nHopetoun House (0131) 331 2451 or www.hopetoun.co.uk \nSee Tickets (0871) 220 0260 or www.seetickets.com \n  \n\n  \n 
URL:https://hopetoun.co.uk/event/the-railway-children/
LOCATION:Hopetoun House\, Hopetoun House\, South Queensferry\, City of Edinburgh\, EH30 9SL\, United Kingdom
ATTACH;FMTTYPE=image/jpeg:https://hopetoun.co.uk/wp-hopetoun-house/wp-content/uploads/The-Railway-Children-zoomed-in.jpg
END:VEVENT
END:VCALENDAR