BEGIN:VCALENDAR
VERSION:2.0
PRODID:-//Hopetoun - ECPv6.15.15//NONSGML v1.0//EN
CALSCALE:GREGORIAN
METHOD:PUBLISH
X-ORIGINAL-URL:https://hopetoun.co.uk
X-WR-CALDESC:Events for Hopetoun
REFRESH-INTERVAL;VALUE=DURATION:PT1H
X-Robots-Tag:noindex
X-PUBLISHED-TTL:PT1H
BEGIN:VTIMEZONE
TZID:UTC
BEGIN:STANDARD
TZOFFSETFROM:+0000
TZOFFSETTO:+0000
TZNAME:UTC
DTSTART:20150101T000000
END:STANDARD
END:VTIMEZONE
BEGIN:VEVENT
DTSTART;TZID=UTC:20160722T120000
DTEND;TZID=UTC:20160722T160000
DTSTAMP:20260425T114305
CREATED:20160204T145825Z
LAST-MODIFIED:20160627T121221Z
UID:2773-1469188800-1469203200@hopetoun.co.uk
SUMMARY:Treasure Trail Adventure
DESCRIPTION:Try your luck at the Hopetoun House Treasure Hunt. Solve the clues\, decipher the codes and explore the grounds along the way. Drop in anytime between 12.00 and 4.00; bring the whole family to join in with the adventure! Children must be accompanied at all times. \nCost: Grounds entry fee £4.55 adult £2.80 child \nMeeting Place: Ranger Centre (Behind Stables Tearoom) \nDROP IN event\, please pay at ticket Kiosk upon arrival. Please contact the ranger service for more information on: ranger@hopetoun.co.uk or 0131 3193956
URL:https://hopetoun.co.uk/event/treasure-trail-adventure/
LOCATION:Hopetoun House\, Hopetoun House\, South Queensferry\, City of Edinburgh\, EH30 9SL\, United Kingdom
CATEGORIES:Children,Nature and Guided Walks,Visiting Hopetoun House
ATTACH;FMTTYPE=image/jpeg:https://hopetoun.co.uk/wp-hopetoun-house/wp-content/uploads/ww-010edit.jpg
END:VEVENT
END:VCALENDAR