BEGIN:VCALENDAR
VERSION:2.0
PRODID:-//Hopetoun - ECPv6.15.15//NONSGML v1.0//EN
CALSCALE:GREGORIAN
METHOD:PUBLISH
X-ORIGINAL-URL:https://hopetoun.co.uk
X-WR-CALDESC:Events for Hopetoun
REFRESH-INTERVAL;VALUE=DURATION:PT1H
X-Robots-Tag:noindex
X-PUBLISHED-TTL:PT1H
BEGIN:VTIMEZONE
TZID:UTC
BEGIN:STANDARD
TZOFFSETFROM:+0000
TZOFFSETTO:+0000
TZNAME:UTC
DTSTART:20150101T000000
END:STANDARD
END:VTIMEZONE
BEGIN:VEVENT
DTSTART;TZID=UTC:20160730T100000
DTEND;TZID=UTC:20160831T170000
DTSTAMP:20260425T114305
CREATED:20160310T115006Z
LAST-MODIFIED:20160627T080554Z
UID:2904-1469872800-1472662800@hopetoun.co.uk
SUMMARY:The Collection
DESCRIPTION:Internationally renowned\, the Scottish Colourist\, Cara Mckinnon Crawford presents a collection of paintings from her travels in Scotland\, France\, Italy and Russia. \nCara is recognised for her dramatic paintings of Scotland which appear in collections worldwide. \nHer body of work\, “The Collection” focuses on Cara’s unique and atmospheric oil paintings\, depicting her deep connection with the breathtaking land and seascape of her native Scotland. \n  \nThe exhibition will be held in the Carriage Room at Hopetoun House\, one of Scotland’s most spectacular\, Adam built\, seventeenth century stately homes. \nThe exhibition opens on the 30th July 2016 – 31st August\, open daily from 10am – 5pm. (Saturday 13th and Saturday 27th the exhibition will only be open 10am – 12 noon and 3pm – 5pm). Entry is free to this exhibition. \n 
URL:https://hopetoun.co.uk/event/the-collection/
LOCATION:Hopetoun House\, Hopetoun House\, South Queensferry\, City of Edinburgh\, EH30 9SL\, United Kingdom
CATEGORIES:Visiting Hopetoun House
ATTACH;FMTTYPE=image/jpeg:https://hopetoun.co.uk/wp-hopetoun-house/wp-content/uploads/cara_july_2015-Silent-Reflections.jpg
END:VEVENT
END:VCALENDAR