BEGIN:VCALENDAR
VERSION:2.0
PRODID:-//Hopetoun - ECPv6.15.15//NONSGML v1.0//EN
CALSCALE:GREGORIAN
METHOD:PUBLISH
X-ORIGINAL-URL:https://hopetoun.co.uk
X-WR-CALDESC:Events for Hopetoun
REFRESH-INTERVAL;VALUE=DURATION:PT1H
X-Robots-Tag:noindex
X-PUBLISHED-TTL:PT1H
BEGIN:VTIMEZONE
TZID:Europe/London
BEGIN:DAYLIGHT
TZOFFSETFROM:+0000
TZOFFSETTO:+0100
TZNAME:BST
DTSTART:20160327T010000
END:DAYLIGHT
BEGIN:STANDARD
TZOFFSETFROM:+0100
TZOFFSETTO:+0000
TZNAME:GMT
DTSTART:20161030T010000
END:STANDARD
BEGIN:DAYLIGHT
TZOFFSETFROM:+0000
TZOFFSETTO:+0100
TZNAME:BST
DTSTART:20170326T010000
END:DAYLIGHT
BEGIN:STANDARD
TZOFFSETFROM:+0100
TZOFFSETTO:+0000
TZNAME:GMT
DTSTART:20171029T010000
END:STANDARD
BEGIN:DAYLIGHT
TZOFFSETFROM:+0000
TZOFFSETTO:+0100
TZNAME:BST
DTSTART:20180325T010000
END:DAYLIGHT
BEGIN:STANDARD
TZOFFSETFROM:+0100
TZOFFSETTO:+0000
TZNAME:GMT
DTSTART:20181028T010000
END:STANDARD
END:VTIMEZONE
BEGIN:VEVENT
DTSTART;TZID=Europe/London:20170514T110000
DTEND;TZID=Europe/London:20170514T170000
DTSTAMP:20260424T202856
CREATED:20170330T090147Z
LAST-MODIFIED:20170410T120529Z
UID:4000-1494759600-1494781200@hopetoun.co.uk
SUMMARY:Race for Life
DESCRIPTION:Race for Life brings millions of women together to support our life-saving research. Just by signing up you’ll make a difference and whether you raise £10 or £200\, every penny matters. \nSo which event is for you? \nA 5k is great for all ages. Run\, jog or walk the only thing that matters is that you’re part of it. Want to push yourself further? Join a 10k. \nWhichever event you choose and whether you do it in a tutu or just an old pink t-shirt\, THIS IS BEATING CANCER. \nCome along and help us support this fantastic cause. \nRegister online now for both the 5k and the 10k
URL:https://hopetoun.co.uk/event/race-for-life/
LOCATION:Hopetoun House\, Hopetoun House\, South Queensferry\, City of Edinburgh\, EH30 9SL\, United Kingdom
CATEGORIES:Performance and Sporting,Visiting Hopetoun House
ATTACH;FMTTYPE=image/jpeg:https://hopetoun.co.uk/wp-hopetoun-house/wp-content/uploads/10k-6.jpg
END:VEVENT
END:VCALENDAR