BEGIN:VCALENDAR
VERSION:2.0
PRODID:-//Hopetoun - ECPv6.15.15//NONSGML v1.0//EN
CALSCALE:GREGORIAN
METHOD:PUBLISH
X-WR-CALNAME:Hopetoun
X-ORIGINAL-URL:https://hopetoun.co.uk
X-WR-CALDESC:Events for Hopetoun
REFRESH-INTERVAL;VALUE=DURATION:PT1H
X-Robots-Tag:noindex
X-PUBLISHED-TTL:PT1H
BEGIN:VTIMEZONE
TZID:Europe/London
BEGIN:DAYLIGHT
TZOFFSETFROM:+0000
TZOFFSETTO:+0100
TZNAME:BST
DTSTART:20160327T010000
END:DAYLIGHT
BEGIN:STANDARD
TZOFFSETFROM:+0100
TZOFFSETTO:+0000
TZNAME:GMT
DTSTART:20161030T010000
END:STANDARD
BEGIN:DAYLIGHT
TZOFFSETFROM:+0000
TZOFFSETTO:+0100
TZNAME:BST
DTSTART:20170326T010000
END:DAYLIGHT
BEGIN:STANDARD
TZOFFSETFROM:+0100
TZOFFSETTO:+0000
TZNAME:GMT
DTSTART:20171029T010000
END:STANDARD
BEGIN:DAYLIGHT
TZOFFSETFROM:+0000
TZOFFSETTO:+0100
TZNAME:BST
DTSTART:20180325T010000
END:DAYLIGHT
BEGIN:STANDARD
TZOFFSETFROM:+0100
TZOFFSETTO:+0000
TZNAME:GMT
DTSTART:20181028T010000
END:STANDARD
END:VTIMEZONE
BEGIN:VEVENT
DTSTART;VALUE=DATE:20170520
DTEND;VALUE=DATE:20170521
DTSTAMP:20260424T214117
CREATED:20170519T102216Z
LAST-MODIFIED:20170519T102216Z
UID:4056-1495238400-1495324799@hopetoun.co.uk
SUMMARY:Residents Information for Saturday 20th May
DESCRIPTION:This Saturday Hopetoun House is the venue for a third-party event – the Fly Open Air Festival \nTo minimise traffic for our neighbours\, many of the attendees will arrive between noon and five pm by bus via the Abercorn Road beyond Newton. Taxis and drop-offs will be signed to enter via the Banks Road on the A904 to the East of Newton. All traffic exits via the western end of the Abercorn Road back on to the A904. The event closes at 10pm and there are no fireworks. The Shore road should not be used by attendees on Saturday\, though will be used for set-up and staff vehicles. For this reason\, and due to ongoing forestry work in the surrounding estate we advise that this road isn’t used as pedestrian access by South Queensferry residents attending the festival. We advise that you arrive by vehicle\, following the event signage. \nPlease be aware that the House\, Grounds and Tearoom will all be closed on Saturday\, though we look forward to welcoming you back as normal on Sunday.
URL:https://hopetoun.co.uk/event/fly-open-air-concert/
LOCATION:Hopetoun House\, Hopetoun House\, South Queensferry\, City of Edinburgh\, EH30 9SL\, United Kingdom
END:VEVENT
END:VCALENDAR