BEGIN:VCALENDAR
VERSION:2.0
PRODID:-//Hopetoun - ECPv6.15.15//NONSGML v1.0//EN
CALSCALE:GREGORIAN
METHOD:PUBLISH
X-WR-CALNAME:Hopetoun
X-ORIGINAL-URL:https://hopetoun.co.uk
X-WR-CALDESC:Events for Hopetoun
REFRESH-INTERVAL;VALUE=DURATION:PT1H
X-Robots-Tag:noindex
X-PUBLISHED-TTL:PT1H
BEGIN:VTIMEZONE
TZID:Europe/London
BEGIN:DAYLIGHT
TZOFFSETFROM:+0000
TZOFFSETTO:+0100
TZNAME:BST
DTSTART:20160327T010000
END:DAYLIGHT
BEGIN:STANDARD
TZOFFSETFROM:+0100
TZOFFSETTO:+0000
TZNAME:GMT
DTSTART:20161030T010000
END:STANDARD
BEGIN:DAYLIGHT
TZOFFSETFROM:+0000
TZOFFSETTO:+0100
TZNAME:BST
DTSTART:20170326T010000
END:DAYLIGHT
BEGIN:STANDARD
TZOFFSETFROM:+0100
TZOFFSETTO:+0000
TZNAME:GMT
DTSTART:20171029T010000
END:STANDARD
BEGIN:DAYLIGHT
TZOFFSETFROM:+0000
TZOFFSETTO:+0100
TZNAME:BST
DTSTART:20180325T010000
END:DAYLIGHT
BEGIN:STANDARD
TZOFFSETFROM:+0100
TZOFFSETTO:+0000
TZNAME:GMT
DTSTART:20181028T010000
END:STANDARD
END:VTIMEZONE
BEGIN:VEVENT
DTSTART;TZID=Europe/London:20170721T103000
DTEND;TZID=Europe/London:20170730T170000
DTSTAMP:20260424T145939
CREATED:20170720T092418Z
LAST-MODIFIED:20170720T092418Z
UID:4121-1500633000-1501434000@hopetoun.co.uk
SUMMARY:Ferry Art Club
DESCRIPTION:The Ferry Art Club are delighted to be holding an exhibition of new work in the Carriage Room at Hopetoun House. \nOpen between 10.30am and 5pm daily from Saturday 22nd July to Sunday 30th July (except Saturday 29th when it is open between 10.30-12.30 and 3-5pm)
URL:https://hopetoun.co.uk/event/ferry-art-club/
LOCATION:Hopetoun House\, Hopetoun House\, South Queensferry\, City of Edinburgh\, EH30 9SL\, United Kingdom
CATEGORIES:Educational,Family,Visiting Hopetoun House
ATTACH;FMTTYPE=image/jpeg:https://hopetoun.co.uk/wp-hopetoun-house/wp-content/uploads/20046619_1198112096959957_6050796905592150110_n.jpg
END:VEVENT
BEGIN:VEVENT
DTSTART;TZID=Europe/London:20170721T120000
DTEND;TZID=Europe/London:20170721T160000
DTSTAMP:20260424T145939
CREATED:20170213T145940Z
LAST-MODIFIED:20170213T150114Z
UID:3952-1500638400-1500652800@hopetoun.co.uk
SUMMARY:Trailblazers
DESCRIPTION: Try your luck at the Hopetoun Grounds Trail. Solve the clues\, decipher the codes and explore the grounds along the way. Drop in anytime between 12 and 4; bring the whole family to join in with the adventure! Children must be accompanied at all times. This is a drop in event which will run between 12noon and 4.00pm. A childrens event for all abilities and Autism friendly. \nMeeting Place: Ranger Centre (Behind Stables Tearoom) \nCost: Grounds entry fee £4.55 adult £2.80 child \nDROP IN event\, please pay at ticket Kiosk upon arrival. Please contact the ranger service for more information on: ranger@hopetoun.co.uk or 0131 3193956 \n 
URL:https://hopetoun.co.uk/event/trailblazers/
LOCATION:Hopetoun House\, Hopetoun House\, South Queensferry\, City of Edinburgh\, EH30 9SL\, United Kingdom
ATTACH;FMTTYPE=image/gif:https://hopetoun.co.uk/wp-hopetoun-house/wp-content/uploads/treasure.gif
END:VEVENT
END:VCALENDAR