BEGIN:VCALENDAR
VERSION:2.0
PRODID:-//Hopetoun - ECPv6.15.15//NONSGML v1.0//EN
CALSCALE:GREGORIAN
METHOD:PUBLISH
X-WR-CALNAME:Hopetoun
X-ORIGINAL-URL:https://hopetoun.co.uk
X-WR-CALDESC:Events for Hopetoun
REFRESH-INTERVAL;VALUE=DURATION:PT1H
X-Robots-Tag:noindex
X-PUBLISHED-TTL:PT1H
BEGIN:VTIMEZONE
TZID:Europe/London
BEGIN:DAYLIGHT
TZOFFSETFROM:+0000
TZOFFSETTO:+0100
TZNAME:BST
DTSTART:20170326T010000
END:DAYLIGHT
BEGIN:STANDARD
TZOFFSETFROM:+0100
TZOFFSETTO:+0000
TZNAME:GMT
DTSTART:20171029T010000
END:STANDARD
BEGIN:DAYLIGHT
TZOFFSETFROM:+0000
TZOFFSETTO:+0100
TZNAME:BST
DTSTART:20180325T010000
END:DAYLIGHT
BEGIN:STANDARD
TZOFFSETFROM:+0100
TZOFFSETTO:+0000
TZNAME:GMT
DTSTART:20181028T010000
END:STANDARD
BEGIN:DAYLIGHT
TZOFFSETFROM:+0000
TZOFFSETTO:+0100
TZNAME:BST
DTSTART:20190331T010000
END:DAYLIGHT
BEGIN:STANDARD
TZOFFSETFROM:+0100
TZOFFSETTO:+0000
TZNAME:GMT
DTSTART:20191027T010000
END:STANDARD
END:VTIMEZONE
BEGIN:VEVENT
DTSTART;TZID=Europe/London:20180621T160000
DTEND;TZID=Europe/London:20180621T200000
DTSTAMP:20260421T124735
CREATED:20180329T074228Z
LAST-MODIFIED:20180329T084335Z
UID:4673-1529596800-1529611200@hopetoun.co.uk
SUMMARY:Wedding Showcase Evening
DESCRIPTION:Photo Credit – juliettelichman.com \nWhether you are considering Hopetoun House to host your special day\, or you have already booked your wedding at Hopetoun\, we would be delighted to welcome you and your bridal party to Hopetoun. \nOn the evening you will have the opportunity to see Hopetoun set up for a wedding ceremony and reception and our experienced team will be available to discuss your plans and answer any questions you may have. \nYou will also have the opportunity to meet with our preferred suppliers to see how they can enhance your day. \nThis exclusive event is strictly by appointment only so please contact a member of our weddings team on weddings@hopetoun.co.uk or call 0131 331 2451 to make your personal appointment.
URL:https://hopetoun.co.uk/event/wedding-showcase-evening/
LOCATION:Hopetoun House
ATTACH;FMTTYPE=image/jpeg:https://hopetoun.co.uk/wp-hopetoun-house/wp-content/uploads/JulietteLichmanPhotography_KateRoss_Wedding248_sml.jpg
END:VEVENT
END:VCALENDAR