BEGIN:VCALENDAR
VERSION:2.0
PRODID:-//Hopetoun - ECPv6.15.15//NONSGML v1.0//EN
CALSCALE:GREGORIAN
METHOD:PUBLISH
X-WR-CALNAME:Hopetoun
X-ORIGINAL-URL:https://hopetoun.co.uk
X-WR-CALDESC:Events for Hopetoun
REFRESH-INTERVAL;VALUE=DURATION:PT1H
X-Robots-Tag:noindex
X-PUBLISHED-TTL:PT1H
BEGIN:VTIMEZONE
TZID:Europe/London
BEGIN:DAYLIGHT
TZOFFSETFROM:+0000
TZOFFSETTO:+0100
TZNAME:BST
DTSTART:20170326T010000
END:DAYLIGHT
BEGIN:STANDARD
TZOFFSETFROM:+0100
TZOFFSETTO:+0000
TZNAME:GMT
DTSTART:20171029T010000
END:STANDARD
BEGIN:DAYLIGHT
TZOFFSETFROM:+0000
TZOFFSETTO:+0100
TZNAME:BST
DTSTART:20180325T010000
END:DAYLIGHT
BEGIN:STANDARD
TZOFFSETFROM:+0100
TZOFFSETTO:+0000
TZNAME:GMT
DTSTART:20181028T010000
END:STANDARD
BEGIN:DAYLIGHT
TZOFFSETFROM:+0000
TZOFFSETTO:+0100
TZNAME:BST
DTSTART:20190331T010000
END:DAYLIGHT
BEGIN:STANDARD
TZOFFSETFROM:+0100
TZOFFSETTO:+0000
TZNAME:GMT
DTSTART:20191027T010000
END:STANDARD
END:VTIMEZONE
BEGIN:VEVENT
DTSTART;VALUE=DATE:20180630
DTEND;VALUE=DATE:20180702
DTSTAMP:20260421T060950
CREATED:20180522T091132Z
LAST-MODIFIED:20180618T113147Z
UID:4900-1530316800-1530489599@hopetoun.co.uk
SUMMARY:Hopetoun Horse Trials 2018
DESCRIPTION:We are delighted to welcome back the horse trials to our annual events calendar on Saturday 30th June & Sunday 1st July. \nThe event is being organised by Bruce Edward and his team who are well known for their involvement with the Central Scotland Trials. \nFor further information: \nW: www.hopetounhorsetrials.org \nE: hopetounhorsetrials@hotmail.com \nIf you are planning to attend: \n\nThe trials is targeting riders at grassroots level – not international level.\nThis is not a ticketed event – if you do plan to visit please adhere to directional signage and parking advice when you arrive on site.\nThere will be limited catering and retail stands available\n\nIf attending the event please DO NOT USE HOPETOUN HOUSE POSTCODE –  use EH52 6PZ –  follow event signage from Abercorn Road\, nr Newton. \nJohn Muir Way – Info for walkers & cyclists \nThe Deer Park will remain open to the public over the weekend. For your own safety please follow event signage within the park and listen to the advise of volunteers working at the event.
URL:https://hopetoun.co.uk/event/hopetoun-horse-trials-2018/
LOCATION:Hopetoun Estate\, South Queensferry\, West Lothian\, EH30 9SL\, United Kingdom
ATTACH;FMTTYPE=image/jpeg:https://hopetoun.co.uk/wp-hopetoun-house/wp-content/uploads/AF20578.jpg
END:VEVENT
END:VCALENDAR