BEGIN:VCALENDAR
VERSION:2.0
PRODID:-//Hopetoun - ECPv6.15.15//NONSGML v1.0//EN
CALSCALE:GREGORIAN
METHOD:PUBLISH
X-ORIGINAL-URL:https://hopetoun.co.uk
X-WR-CALDESC:Events for Hopetoun
REFRESH-INTERVAL;VALUE=DURATION:PT1H
X-Robots-Tag:noindex
X-PUBLISHED-TTL:PT1H
BEGIN:VTIMEZONE
TZID:Europe/London
BEGIN:DAYLIGHT
TZOFFSETFROM:+0000
TZOFFSETTO:+0100
TZNAME:BST
DTSTART:20170326T010000
END:DAYLIGHT
BEGIN:STANDARD
TZOFFSETFROM:+0100
TZOFFSETTO:+0000
TZNAME:GMT
DTSTART:20171029T010000
END:STANDARD
BEGIN:DAYLIGHT
TZOFFSETFROM:+0000
TZOFFSETTO:+0100
TZNAME:BST
DTSTART:20180325T010000
END:DAYLIGHT
BEGIN:STANDARD
TZOFFSETFROM:+0100
TZOFFSETTO:+0000
TZNAME:GMT
DTSTART:20181028T010000
END:STANDARD
BEGIN:DAYLIGHT
TZOFFSETFROM:+0000
TZOFFSETTO:+0100
TZNAME:BST
DTSTART:20190331T010000
END:DAYLIGHT
BEGIN:STANDARD
TZOFFSETFROM:+0100
TZOFFSETTO:+0000
TZNAME:GMT
DTSTART:20191027T010000
END:STANDARD
END:VTIMEZONE
BEGIN:VEVENT
DTSTART;TZID=Europe/London:20180915T103000
DTEND;TZID=Europe/London:20180923T170000
DTSTAMP:20260420T210759
CREATED:20180621T124150Z
LAST-MODIFIED:20180821T130857Z
UID:4955-1537007400-1537722000@hopetoun.co.uk
SUMMARY:Ferry Art Club Exhibition
DESCRIPTION:‘After a very successful exhibition last year the members of Ferry art club are delighted to be returning to Hopetoun House for a second year\, from September 15th until September 23rd to exhibit our new work. \nFerry art club is comprised of a small group of local people who meet on a Tuesday evening in Rosebery Hall in South Queensferry. We use a variety of media and have diverse styles and enjoy the social aspects of belonging to a club. In addition we have regular demonstrations and visiting artists workshops to give inspiration. \nWe would like to thank Hopetoun for the opportunity to exhibit in such a wonderful venue again and are looking forward to another exciting exhibition in September.’ \nAt: The Outer Room\, Hopetoun House\, South Queensferry \nDates: 15 September – 23rd September 2018 \n 
URL:https://hopetoun.co.uk/event/ferry-art-club-exhibition/
LOCATION:Hopetoun House\, Hopetoun House\, South Queensferry\, City of Edinburgh\, EH30 9SL\, United Kingdom
CATEGORIES:Educational,Visiting Hopetoun House
ATTACH;FMTTYPE=image/jpeg:https://hopetoun.co.uk/wp-hopetoun-house/wp-content/uploads/art-club.jpg
END:VEVENT
END:VCALENDAR