BEGIN:VCALENDAR
VERSION:2.0
PRODID:-//Hopetoun - ECPv6.15.15//NONSGML v1.0//EN
CALSCALE:GREGORIAN
METHOD:PUBLISH
X-ORIGINAL-URL:https://hopetoun.co.uk
X-WR-CALDESC:Events for Hopetoun
REFRESH-INTERVAL;VALUE=DURATION:PT1H
X-Robots-Tag:noindex
X-PUBLISHED-TTL:PT1H
BEGIN:VTIMEZONE
TZID:Europe/London
BEGIN:DAYLIGHT
TZOFFSETFROM:+0000
TZOFFSETTO:+0100
TZNAME:BST
DTSTART:20180325T010000
END:DAYLIGHT
BEGIN:STANDARD
TZOFFSETFROM:+0100
TZOFFSETTO:+0000
TZNAME:GMT
DTSTART:20181028T010000
END:STANDARD
BEGIN:DAYLIGHT
TZOFFSETFROM:+0000
TZOFFSETTO:+0100
TZNAME:BST
DTSTART:20190331T010000
END:DAYLIGHT
BEGIN:STANDARD
TZOFFSETFROM:+0100
TZOFFSETTO:+0000
TZNAME:GMT
DTSTART:20191027T010000
END:STANDARD
BEGIN:DAYLIGHT
TZOFFSETFROM:+0000
TZOFFSETTO:+0100
TZNAME:BST
DTSTART:20200329T010000
END:DAYLIGHT
BEGIN:STANDARD
TZOFFSETFROM:+0100
TZOFFSETTO:+0000
TZNAME:GMT
DTSTART:20201025T010000
END:STANDARD
END:VTIMEZONE
BEGIN:VEVENT
DTSTART;VALUE=DATE:20190629
DTEND;VALUE=DATE:20190701
DTSTAMP:20260422T012502
CREATED:20190128T161355Z
LAST-MODIFIED:20190128T161501Z
UID:5330-1561766400-1561939199@hopetoun.co.uk
SUMMARY:Hopetoun Horse Trials
DESCRIPTION:Saturday 29th & Sunday 30th of June 2019 \nThis event is being organised by Bruce Edward and his team who are well known for their involvement with the Central Scotland Horse Trials. \nFor Further information or any trade stand/ sponsorship enquires please email Dawn on the below address \nW: www.hopetounhorsetrials.org \nE: hopetounhorsetrials@hotmail.com \n If you are planning to attend: \n\nThe horse trials is targeting riders at grassroots level – not international level.\nThis is not a ticketed event – if you do plan to visit please adhere to directional signage and parking advice when you arrive on site.\nThere will be limited catering and retail stands available.\n\nIf attending the event please DO NOT USE HOPETOUN HOUSE POSTCODE – USE EH52 6PZ – follow event signage from Abercorn Road\, nr Newton. \n  \nJohn Muir Way – Info for walkers & Cyclists \nThe Deer park will remain open to the public over the weekend. For your own safety please follow event signage within the park and listen to the advice of volunteers working at the event. \n  \nPhoto Credit – Action Replay Photography 
URL:https://hopetoun.co.uk/event/hopetoun-horse-trails/
LOCATION:Hopetoun Estate\, South Queensferry\, West Lothian\, EH30 9SL\, United Kingdom
CATEGORIES:Performance and Sporting
ATTACH;FMTTYPE=image/jpeg:https://hopetoun.co.uk/wp-hopetoun-house/wp-content/uploads/Action-Replay-Photography.jpg
END:VEVENT
END:VCALENDAR