BEGIN:VCALENDAR
VERSION:2.0
PRODID:-//Hopetoun - ECPv6.15.15//NONSGML v1.0//EN
CALSCALE:GREGORIAN
METHOD:PUBLISH
X-ORIGINAL-URL:https://hopetoun.co.uk
X-WR-CALDESC:Events for Hopetoun
REFRESH-INTERVAL;VALUE=DURATION:PT1H
X-Robots-Tag:noindex
X-PUBLISHED-TTL:PT1H
BEGIN:VTIMEZONE
TZID:Europe/London
BEGIN:DAYLIGHT
TZOFFSETFROM:+0000
TZOFFSETTO:+0100
TZNAME:BST
DTSTART:20230326T010000
END:DAYLIGHT
BEGIN:STANDARD
TZOFFSETFROM:+0100
TZOFFSETTO:+0000
TZNAME:GMT
DTSTART:20231029T010000
END:STANDARD
BEGIN:DAYLIGHT
TZOFFSETFROM:+0000
TZOFFSETTO:+0100
TZNAME:BST
DTSTART:20240331T010000
END:DAYLIGHT
BEGIN:STANDARD
TZOFFSETFROM:+0100
TZOFFSETTO:+0000
TZNAME:GMT
DTSTART:20241027T010000
END:STANDARD
BEGIN:DAYLIGHT
TZOFFSETFROM:+0000
TZOFFSETTO:+0100
TZNAME:BST
DTSTART:20250330T010000
END:DAYLIGHT
BEGIN:STANDARD
TZOFFSETFROM:+0100
TZOFFSETTO:+0000
TZNAME:GMT
DTSTART:20251026T010000
END:STANDARD
END:VTIMEZONE
BEGIN:VEVENT
DTSTART;TZID=Europe/London:20241212T160000
DTEND;TZID=Europe/London:20241212T200000
DTSTAMP:20260421T112824
CREATED:20241023T093600Z
LAST-MODIFIED:20241023T094223Z
UID:9547-1734019200-1734033600@hopetoun.co.uk
SUMMARY:Winter Wedding Open Evening
DESCRIPTION:Recently engaged and looking for your dream wedding venue? \nJoin us on Thursday 12th December 2024 from 4pm- 8pm. The fires will be lit and the tree lights twinkling\, Hopetoun during the winter months really is so romantic. \nOn the evening you will have the opportunity to view of all the private event spaces and our experienced team will be available to discuss your plans and answer any questions you may have. \nThis exclusive event is strictly by appointment only so please contact a member of our weddings team on weddings@hopetoun.co.uk or call 0131 331 2451 to make your personal appointment. \nWedding Showcase Event | Thursday 12th December | 4pm – 8pm | 0131 331 2451 | weddings@hopetoun.co.uk \n  \nPhoto – Sophie & James by Corrine Moffat Photography
URL:https://hopetoun.co.uk/event/winter-wedding-open-evening/
LOCATION:Hopetoun House
ATTACH;FMTTYPE=image/jpeg:https://hopetoun.co.uk/wp-hopetoun-house/wp-content/uploads/Portraits_00715-scaled.jpg
END:VEVENT
END:VCALENDAR