BEGIN:VCALENDAR
VERSION:2.0
PRODID:-//Hopetoun - ECPv6.15.15//NONSGML v1.0//EN
CALSCALE:GREGORIAN
METHOD:PUBLISH
X-ORIGINAL-URL:https://hopetoun.co.uk
X-WR-CALDESC:Events for Hopetoun
REFRESH-INTERVAL;VALUE=DURATION:PT1H
X-Robots-Tag:noindex
X-PUBLISHED-TTL:PT1H
BEGIN:VTIMEZONE
TZID:Europe/London
BEGIN:DAYLIGHT
TZOFFSETFROM:+0000
TZOFFSETTO:+0100
TZNAME:BST
DTSTART:20240331T010000
END:DAYLIGHT
BEGIN:STANDARD
TZOFFSETFROM:+0100
TZOFFSETTO:+0000
TZNAME:GMT
DTSTART:20241027T010000
END:STANDARD
BEGIN:DAYLIGHT
TZOFFSETFROM:+0000
TZOFFSETTO:+0100
TZNAME:BST
DTSTART:20250330T010000
END:DAYLIGHT
BEGIN:STANDARD
TZOFFSETFROM:+0100
TZOFFSETTO:+0000
TZNAME:GMT
DTSTART:20251026T010000
END:STANDARD
BEGIN:DAYLIGHT
TZOFFSETFROM:+0000
TZOFFSETTO:+0100
TZNAME:BST
DTSTART:20260329T010000
END:DAYLIGHT
BEGIN:STANDARD
TZOFFSETFROM:+0100
TZOFFSETTO:+0000
TZNAME:GMT
DTSTART:20261025T010000
END:STANDARD
END:VTIMEZONE
BEGIN:VEVENT
DTSTART;TZID=Europe/London:20250525T110000
DTEND;TZID=Europe/London:20250525T150000
DTSTAMP:20260421T002038
CREATED:20250507T135431Z
LAST-MODIFIED:20250507T145240Z
UID:9989-1748170800-1748185200@hopetoun.co.uk
SUMMARY:AROC Scottish Italian Car Day Sunday 25th May 2025
DESCRIPTION:The Scottish Italian Car Day returns to Hopetoun House on Sunday 25th May 2025. Welcoming every Italian car marque including Alfa Romeo\, Lancia\, Fiat\, Abarth\, Maserati\, Ferrari\, De Tomaso\, Lamborghini and everything else from classic to modern. \nVisitors with tickets for Hopetoun House or Grounds on the same day can also enjoy the car show at no extra cost (tickets available online or on the day on arrival)\, \nShould you wish to exhibit a car or visit the cars only please book on the organisers website here: AROC Scottish Italian Car Day – Alfa Romeo Owners Club
URL:https://hopetoun.co.uk/event/scottish-italian-car-day-sunday-25th-may-2025/
LOCATION:Hopetoun House\, Hopetoun House\, South Queensferry\, City of Edinburgh\, EH30 9SL\, United Kingdom
CATEGORIES:Family
ATTACH;FMTTYPE=image/jpeg:https://hopetoun.co.uk/wp-hopetoun-house/wp-content/uploads/2025_SICD_A5_CMYK_V1-1920x1369-1.jpg
END:VEVENT
END:VCALENDAR