BEGIN:VCALENDAR
VERSION:2.0
PRODID:-//Hopetoun - ECPv6.15.15//NONSGML v1.0//EN
CALSCALE:GREGORIAN
METHOD:PUBLISH
X-ORIGINAL-URL:https://hopetoun.co.uk
X-WR-CALDESC:Events for Hopetoun
REFRESH-INTERVAL;VALUE=DURATION:PT1H
X-Robots-Tag:noindex
X-PUBLISHED-TTL:PT1H
BEGIN:VTIMEZONE
TZID:Europe/London
BEGIN:DAYLIGHT
TZOFFSETFROM:+0000
TZOFFSETTO:+0100
TZNAME:BST
DTSTART:20240331T010000
END:DAYLIGHT
BEGIN:STANDARD
TZOFFSETFROM:+0100
TZOFFSETTO:+0000
TZNAME:GMT
DTSTART:20241027T010000
END:STANDARD
BEGIN:DAYLIGHT
TZOFFSETFROM:+0000
TZOFFSETTO:+0100
TZNAME:BST
DTSTART:20250330T010000
END:DAYLIGHT
BEGIN:STANDARD
TZOFFSETFROM:+0100
TZOFFSETTO:+0000
TZNAME:GMT
DTSTART:20251026T010000
END:STANDARD
BEGIN:DAYLIGHT
TZOFFSETFROM:+0000
TZOFFSETTO:+0100
TZNAME:BST
DTSTART:20260329T010000
END:DAYLIGHT
BEGIN:STANDARD
TZOFFSETFROM:+0100
TZOFFSETTO:+0000
TZNAME:GMT
DTSTART:20261025T010000
END:STANDARD
END:VTIMEZONE
BEGIN:VEVENT
DTSTART;TZID=Europe/London:20250627T110000
DTEND;TZID=Europe/London:20250831T170000
DTSTAMP:20260420T193718
CREATED:20250626T102140Z
LAST-MODIFIED:20250718T152917Z
UID:10054-1751022000-1756659600@hopetoun.co.uk
SUMMARY:Kids Go FREE at Hopetoun House this Summer!
DESCRIPTION:BIG NEWS! Kids Go FREE at Hopetoun House this Summer! Explore nature and history– all for less.\n\nThis July and August\, children aged 15 and under can explore Hopetoun House and Grounds absolutely FREE with a paying adult!\n\nStep into a world of grand architecture\, woodland trails\, and hidden adventures. Whether you’re bug hunting in the woods\, uncovering secrets in our historic rooms or enjoying a picnic with a view – there’s something for every young explorer.\n\n\nTickets are for general admission only and must be pre-booked using the discount code KIDSFOC at checkout. Book tickets here\n\nNeed help planning your visit? Have a look at our FAQ page for more information\n\nT&Cs:\n• Open to the general public 5 days per week\, Thursday to Monday (closed on Tuesday & Wednesday). We are also closed for private events on Thurs 10th July\, Thurs 31st July and Fri 1st Aug – Mon 4th Aug.• Discount only applies to entry to Hopetoun House & Grounds. It does not apply to entry to Midhope Castle.• Discount does not apply to food and beverages purchased in the onsite Stables Kitchen.• All bookings are subject to availability.• This offer cannot be used in conjunction with any other offer.• Advance booking is required.• Offer applies to standard admission only; offer does not apply to public events.• A maximum of 3 free kid’s tickets per full paying adult permitted
URL:https://hopetoun.co.uk/event/kids-go-free-hopetoun-house-summer/
CATEGORIES:Children,Family,Visiting Hopetoun House
ATTACH;FMTTYPE=image/png:https://hopetoun.co.uk/wp-hopetoun-house/wp-content/uploads/FB-cover-for-mobile-4-e1750933086104.png
END:VEVENT
BEGIN:VEVENT
DTSTART;TZID=Europe/London:20250725T113000
DTEND;TZID=Europe/London:20250725T130000
DTSTAMP:20260420T193718
CREATED:20250423T112632Z
LAST-MODIFIED:20250718T155244Z
UID:9948-1753443000-1753448400@hopetoun.co.uk
SUMMARY:Outlander Guided Tour of Hopetoun House and entrance to Midhope Castle
DESCRIPTION:Join us on a small group exclusive guided tour of the several Outlander locations inside Hopetoun House and outside in the Grounds.\n\nPrebooking is required.\n\nThe guided tour takes place every Friday. It starts at 11:30 and lasts approx. 90 minutes\, but your ticket lasts all day so you are welcome to stay at Hopetoun for as long as you wish (we close at 5pm).\n\nDuring the day you can also visit Midhope Castle\, better known as Lallybroch (located a few miles away) which is also included in the ticket price.\nPlease note: You need your own transport to travel between Hopetoun House and Midhope Castle (approx 3 miles apart). Guided tour is of Hopetoun House locations only.\n\nFind out more about Outlander at Hopetoun here\n\n** Tours are available during the 2025 visitor season. Dates are subject to change in the event of House closures ***
URL:https://hopetoun.co.uk/event/outlander-guided-tour-hopetoun-house-entrance-midhope-castle-2025-07-25/
LOCATION:Hopetoun House\, Hopetoun House\, South Queensferry\, City of Edinburgh\, EH30 9SL\, United Kingdom
CATEGORIES:Outlander
ATTACH;FMTTYPE=image/png:https://hopetoun.co.uk/wp-hopetoun-house/wp-content/uploads/Outlander-Guided-tours-at-Hopetoun-House-2.png
END:VEVENT
END:VCALENDAR