BEGIN:VCALENDAR
VERSION:2.0
PRODID:-//Hopetoun - ECPv6.15.15//NONSGML v1.0//EN
CALSCALE:GREGORIAN
METHOD:PUBLISH
X-WR-CALNAME:Hopetoun
X-ORIGINAL-URL:https://hopetoun.co.uk
X-WR-CALDESC:Events for Hopetoun
REFRESH-INTERVAL;VALUE=DURATION:PT1H
X-Robots-Tag:noindex
X-PUBLISHED-TTL:PT1H
BEGIN:VTIMEZONE
TZID:Europe/London
BEGIN:DAYLIGHT
TZOFFSETFROM:+0000
TZOFFSETTO:+0100
TZNAME:BST
DTSTART:20250330T010000
END:DAYLIGHT
BEGIN:STANDARD
TZOFFSETFROM:+0100
TZOFFSETTO:+0000
TZNAME:GMT
DTSTART:20251026T010000
END:STANDARD
BEGIN:DAYLIGHT
TZOFFSETFROM:+0000
TZOFFSETTO:+0100
TZNAME:BST
DTSTART:20260329T010000
END:DAYLIGHT
BEGIN:STANDARD
TZOFFSETFROM:+0100
TZOFFSETTO:+0000
TZNAME:GMT
DTSTART:20261025T010000
END:STANDARD
BEGIN:DAYLIGHT
TZOFFSETFROM:+0000
TZOFFSETTO:+0100
TZNAME:BST
DTSTART:20270328T010000
END:DAYLIGHT
BEGIN:STANDARD
TZOFFSETFROM:+0100
TZOFFSETTO:+0000
TZNAME:GMT
DTSTART:20271031T010000
END:STANDARD
END:VTIMEZONE
BEGIN:VEVENT
DTSTART;TZID=Europe/London:20260403T110000
DTEND;TZID=Europe/London:20260927T170000
DTSTAMP:20260420T014902
CREATED:20260328T153619Z
LAST-MODIFIED:20260328T153619Z
UID:10992-1775214000-1790528400@hopetoun.co.uk
SUMMARY:Hopetoun Hounds - Dog Photography Competition
DESCRIPTION:This season\, we’re delighted to launch Hopetoun Hounds – a brand-new photography competition celebrating our four-legged visitors at the grounds of Scotland’s finest stately home. \nBring your dog along to Hopetoun\, explore our beautiful grounds\, and capture that perfect moment of your pup enjoying their day out. Whether they’re posing proudly on the lawns\, exploring woodland paths\, enjoying a puppuccino in The Stables Kitchen or simply soaking up the scenery\, we’d love to see your best shots. \nEach month from April to September\, we’ll select a winning photograph. The lucky winner will receive a Hopetoun Hamper worth up to £80\, filled with treats for both you and your dog – the perfect reward after a day of adventure. \nHow to Enter\nTaking part is simple: \n\nVisit Hopetoun House & Grounds with your dog.\nTake a photograph somewhere within the Grounds or in The Stables Kitchen.\nShare your photograph on Instagram or Facebook\, tagging @HopetounHouse and using #HopetounHounds.\nPaste the link to your Instagram or Facebook post in the entry form below to complete your entry.\n\n One winner will be chosen each month during our visitor season (April–September). \nReady to enter? Submit your photo below for your chance to win! \nWell behaved dogs on leads are welcome in The Stables Kitchen where your furry friend can enjoy our “Posh Pooch Menu”\, while you relax with a well-earned refreshment. \nTerms & Conditions apply. Full competition rules are available via the entry form. By entering\, participants agree to these rules. This promotion is in no way sponsored\, endorsed\, administered by\, or associated with Instagram.
URL:https://hopetoun.co.uk/event/hopetoun-hounds-dog-photography-competition/
LOCATION:Hopetoun House
ATTACH;FMTTYPE=image/jpeg:https://hopetoun.co.uk/wp-hopetoun-house/wp-content/uploads/hopetoun-Hounds-cover-image-e1773737725280.jpg
END:VEVENT
BEGIN:VEVENT
DTSTART;TZID=Europe/London:20260627T100000
DTEND;TZID=Europe/London:20260627T160000
DTSTAMP:20260420T014902
CREATED:20260409T105101Z
LAST-MODIFIED:20260409T123947Z
UID:11020-1782554400-1782576000@hopetoun.co.uk
SUMMARY:Two Houses and a Castle Guided Walk
DESCRIPTION:Saturday 27th June 2026 | 10am – 3pm \nTicket prices: Adult £10.00 per person |  Child £8.00 per person (not advised for children under 10 years of age) \nJoin us for the return of our much-loved annual event the Two Houses and a Castle Walk! \nEmbark on a summer hike across the picturesque landscapes of West Lothian. Delve into the rich history of the region as you explore iconic buildings along the way. \nLed by knowledgeable staff\, this guided walk will take you on a journey between three of West Lothian’s most treasured historic sites: \n🏰 Hopetoun House \n🏰 Blackness Castle \n🏰 The House of the Binns \nPlease be aware this walk will cover approx. 5 miles with some rough underfoot conditions\, fence crossings and requires a good level of fitness. \nDon’t miss out on this unforgettable experience! Secure your spot now and get ready for a day filled with exploration\, learning\, and breath-taking views. \nSpaces fill up quickly\, so book now to avoid disappointment. \nPlan your visit: \n🎟️ Booking required: Two Houses and a Castle Guided Walk 27 June 26\n🐶 Regretfully\, dogs are not permitted on Ranger-led guided walks. \n☕ The Stables Kitchen will be open and serving a selection of seasonal homemade sweet and savoury options.
URL:https://hopetoun.co.uk/event/two-houses-and-a-castle-guided-walk/
CATEGORIES:Nature and Guided Walks
ATTACH;FMTTYPE=image/jpeg:https://hopetoun.co.uk/wp-hopetoun-house/wp-content/uploads/TwoHousesaCastle.jpg
END:VEVENT
END:VCALENDAR