BEGIN:VCALENDAR
VERSION:2.0
PRODID:-//Hopetoun - ECPv6.15.15//NONSGML v1.0//EN
CALSCALE:GREGORIAN
METHOD:PUBLISH
X-ORIGINAL-URL:https://hopetoun.co.uk
X-WR-CALDESC:Events for Hopetoun
REFRESH-INTERVAL;VALUE=DURATION:PT1H
X-Robots-Tag:noindex
X-PUBLISHED-TTL:PT1H
BEGIN:VTIMEZONE
TZID:Europe/London
BEGIN:DAYLIGHT
TZOFFSETFROM:+0000
TZOFFSETTO:+0100
TZNAME:BST
DTSTART:20140330T010000
END:DAYLIGHT
BEGIN:STANDARD
TZOFFSETFROM:+0100
TZOFFSETTO:+0000
TZNAME:GMT
DTSTART:20141026T010000
END:STANDARD
BEGIN:DAYLIGHT
TZOFFSETFROM:+0000
TZOFFSETTO:+0100
TZNAME:BST
DTSTART:20150329T010000
END:DAYLIGHT
BEGIN:STANDARD
TZOFFSETFROM:+0100
TZOFFSETTO:+0000
TZNAME:GMT
DTSTART:20151025T010000
END:STANDARD
BEGIN:DAYLIGHT
TZOFFSETFROM:+0000
TZOFFSETTO:+0100
TZNAME:BST
DTSTART:20160327T010000
END:DAYLIGHT
BEGIN:STANDARD
TZOFFSETFROM:+0100
TZOFFSETTO:+0000
TZNAME:GMT
DTSTART:20161030T010000
END:STANDARD
BEGIN:DAYLIGHT
TZOFFSETFROM:+0000
TZOFFSETTO:+0100
TZNAME:BST
DTSTART:20170326T010000
END:DAYLIGHT
BEGIN:STANDARD
TZOFFSETFROM:+0100
TZOFFSETTO:+0000
TZNAME:GMT
DTSTART:20171029T010000
END:STANDARD
BEGIN:DAYLIGHT
TZOFFSETFROM:+0000
TZOFFSETTO:+0100
TZNAME:BST
DTSTART:20180325T010000
END:DAYLIGHT
BEGIN:STANDARD
TZOFFSETFROM:+0100
TZOFFSETTO:+0000
TZNAME:GMT
DTSTART:20181028T010000
END:STANDARD
END:VTIMEZONE
BEGIN:VTIMEZONE
TZID:UTC
BEGIN:STANDARD
TZOFFSETFROM:+0000
TZOFFSETTO:+0000
TZNAME:UTC
DTSTART:20150101T000000
END:STANDARD
END:VTIMEZONE
BEGIN:VEVENT
DTSTART;TZID=Europe/London:20170529T160000
DTEND;TZID=Europe/London:20170529T170000
DTSTAMP:20260426T044733
CREATED:20170515T082140Z
LAST-MODIFIED:20170518T144933Z
UID:4024-1496073600-1496077200@hopetoun.co.uk
SUMMARY:Hopetoun House Twilight Tour
DESCRIPTION:We are delighted to offer a Special Tour of Hopetoun House after the house has closed. The Twilight Tour will begin at 4.00pm after the shutters are closed and the house is put to bed. \nExperience an environment that goes back 300 years behind closed doors with our Head Guide\, Ian Low. \nBooking essential. Please call 0131 319 3954 to reserve your space. Normal House entry applies (£9.85)
URL:https://hopetoun.co.uk/event/hopetoun-house-twilight-tour/
LOCATION:Hopetoun House\, Hopetoun House\, South Queensferry\, City of Edinburgh\, EH30 9SL\, United Kingdom
CATEGORIES:Educational,Visiting Hopetoun House
ATTACH;FMTTYPE=image/jpeg:https://hopetoun.co.uk/wp-hopetoun-house/wp-content/uploads/Hopetoun-Floodlit-cropped.jpg
END:VEVENT
BEGIN:VEVENT
DTSTART;TZID=Europe/London:20170529T140000
DTEND;TZID=Europe/London:20170529T153000
DTSTAMP:20260426T044733
CREATED:20150523T141404Z
LAST-MODIFIED:20170214T121625Z
UID:58-1496066400-1496071800@hopetoun.co.uk
SUMMARY:Wildflower Walk
DESCRIPTION:Explore the grounds and the variety of plant life growing\, from cultivated to wild species\, enjoy hearing all about Hopetoun’s plants on this guided walk. Not suitable for young children. \nCost: Grounds entry fee £4.55 adult \nBOOKING ESSENTIAL. Please contact the ranger service on: ranger@hopetoun.co.uk or 01313193956
URL:https://hopetoun.co.uk/event/wildflower-walk/
LOCATION:Hopetoun House\, Hopetoun House\, South Queensferry\, City of Edinburgh\, EH30 9SL\, United Kingdom
CATEGORIES:Educational,Nature and Guided Walks,Visiting Hopetoun House
ATTACH;FMTTYPE=image/jpeg:https://hopetoun.co.uk/wp-hopetoun-house/wp-content/uploads/21.8.09-Grounds-Photos-029.jpg
END:VEVENT
BEGIN:VEVENT
DTSTART;TZID=Europe/London:20170527T110000
DTEND;TZID=Europe/London:20170527T130000
DTSTAMP:20260426T044733
CREATED:20170524T073947Z
LAST-MODIFIED:20170526T094427Z
UID:4061-1495882800-1495890000@hopetoun.co.uk
SUMMARY:A Servant's Lot
DESCRIPTION:Join us on Saturday the 27th of May to see the Hopetoun Explorers working as servants and acting as costumed house guides. \nThe children will be in the house from 11am – 1pm. \nFor more information on the Hopetoun Explorers and 2017 dates\, please find the Hopetoun Explorer Programme 2017 here. Contact the Education an Ranger team on: 0313 3193959 or education@hopetoun.co.uk
URL:https://hopetoun.co.uk/event/hopetoun-explorers/
LOCATION:Hopetoun House\, Hopetoun House\, South Queensferry\, City of Edinburgh\, EH30 9SL\, United Kingdom
CATEGORIES:Children,Educational,Family
ATTACH;FMTTYPE=image/jpeg:https://hopetoun.co.uk/wp-hopetoun-house/wp-content/uploads/May-2016-Guiding-020.jpg
END:VEVENT
BEGIN:VEVENT
DTSTART;TZID=Europe/London:20170326T100000
DTEND;TZID=Europe/London:20170326T160000
DTSTAMP:20260426T044733
CREATED:20170213T145135Z
LAST-MODIFIED:20170213T145152Z
UID:3944-1490522400-1490544000@hopetoun.co.uk
SUMMARY:Willow Weaving-Come and Try
DESCRIPTION:Join us for a fun filled day\, learning the basics of willow weaving. Ever fancied trying to weave your own basket? Now is your chance. Join the rangers and have a go! All materials will be provided. \nPlease bring lunch. \nCost: £15.00 pp \nBOOKING ESSENTIAL PLACES LIMITED Please contact the ranger service on: ranger@hopetoun.co.uk or 0131 3193956
URL:https://hopetoun.co.uk/event/willow-weaving-come-try/
LOCATION:Hopetoun House\, Hopetoun House\, South Queensferry\, City of Edinburgh\, EH30 9SL\, United Kingdom
CATEGORIES:Educational,Visiting Hopetoun House
ATTACH;FMTTYPE=image/gif:https://hopetoun.co.uk/wp-hopetoun-house/wp-content/uploads/willow.gif
END:VEVENT
BEGIN:VEVENT
DTSTART;TZID=UTC:20160423T140000
DTEND;TZID=UTC:20160423T153000
DTSTAMP:20260426T044733
CREATED:20160204T121307Z
LAST-MODIFIED:20160208T144021Z
UID:2763-1461420000-1461425400@hopetoun.co.uk
SUMMARY:Feed the Birds
DESCRIPTION:Find out what is happening in the grounds at Hopetoun in the spring. Enjoy a guided walk to spot spring flowers and birds before making some bird feeders to take home for your own garden. \nCost: Grounds entry fee £4.25 adult £2.50 child \nMeeting Place: Main Visitor Car Park \n  \nBOOKING ESSENTIAL. Please contact the ranger service on: ranger@hopetoun.co.uk or 0131 3193956
URL:https://hopetoun.co.uk/event/feed-the-birds/
LOCATION:Hopetoun House\, Hopetoun House\, South Queensferry\, City of Edinburgh\, EH30 9SL\, United Kingdom
CATEGORIES:Educational,Nature and Guided Walks
ATTACH;FMTTYPE=image/jpeg:https://hopetoun.co.uk/wp-hopetoun-house/wp-content/uploads/long-tailed-tit1.jpg
END:VEVENT
BEGIN:VEVENT
DTSTART;TZID=Europe/London:20160318T100000
DTEND;TZID=Europe/London:20160526T160000
DTSTAMP:20260426T044733
CREATED:20160428T124723Z
LAST-MODIFIED:20160518T110504Z
UID:3041-1458295200-1464278400@hopetoun.co.uk
SUMMARY:Building Scotland
DESCRIPTION:An exhibition celebrating 14 of Scotland’s traditional building materials \nThis touring exhibition celebrates fourteen individual building materials. Many\, such as stone and timber\, have been used since earliest human habitation in Scotland. Others\, such as pantiles and iron\, came into general use in more recent times. \nFor the majority of our traditionally constructed buildings it is the use of these materials\, in combination with one another\, that has created the beautiful and diverse nature of Scotland’s build heritage: stone\, lime and pantiles come together to form distinctive buildings in our east coast towns and villages; timber\, clay\, stone and thatch are combined to form the blackhouses so distinctive of the Western Isles. \nIt is hoped that this exhibition\, based on the “Building Scotland” book\, will give an insight into the diverse materials that have literally been the building blocks of our traditional villages and cities throughout Scotland \n 
URL:https://hopetoun.co.uk/event/building-scotland/
LOCATION:Hopetoun House\, Hopetoun House\, South Queensferry\, City of Edinburgh\, EH30 9SL\, United Kingdom
CATEGORIES:Educational,Visiting Hopetoun House
END:VEVENT
BEGIN:VEVENT
DTSTART;TZID=UTC:20160221T103000
DTEND;TZID=UTC:20160221T160000
DTSTAMP:20260426T044733
CREATED:20151207T145053Z
LAST-MODIFIED:20160204T121430Z
UID:2550-1456050600-1456070400@hopetoun.co.uk
SUMMARY:Snowdrop Sunday
DESCRIPTION:For one day only this winter\, Hopetoun’s grounds and Stables tearoom are open for you to enjoy the Snowdrop display as part of the Scottish Snowdrop Festival. Enjoy a guided walk at 2pm (please book this in advance) or a self-led wander around the grounds. A visit to the beautiful Stables tearoom for tea and cake is highly recommended to finish off your day. \nCost: Grounds entry fee £4.25 adult £2.50 child \nDROP IN ANYTIME 10:30-4pm Please contact the ranger service for information on or to book the 2pm guided walk: ranger@hopetoun.co.uk or 0131 3193956
URL:https://hopetoun.co.uk/event/snowdrop-sunday/
LOCATION:Hopetoun House\, Hopetoun House\, South Queensferry\, City of Edinburgh\, EH30 9SL\, United Kingdom
CATEGORIES:Educational,Family,Visiting Hopetoun House
ATTACH;FMTTYPE=image/jpeg:https://hopetoun.co.uk/wp-hopetoun-house/wp-content/uploads/snowdrops_014.jpg
END:VEVENT
BEGIN:VEVENT
DTSTART;TZID=Europe/London:20151121T183000
DTEND;TZID=Europe/London:20151121T203000
DTSTAMP:20260426T044733
CREATED:20150709T130259Z
LAST-MODIFIED:20151103T100939Z
UID:1541-1448130600-1448137800@hopetoun.co.uk
SUMMARY:Dark Skies
DESCRIPTION:SOLD OUT! PLEASE CONTACT TO BE ADDED TO THE WAITING LIST \nJoin experts from the Royal Observatory in Edinburgh to explore the night sky at Hopetoun House. Learn about the galaxy’s above your head and spot some seasonal stars for yourself. This one off event is suitable for all ages so bring the whole family and get lost exploring the sights millions of light years away. LIMITED PLACES. Please book soon to avoid disappointment. \nCost: £6 per adult £3 per child \nBOOKING ESSENTIAL. Please contact the ranger service on: ranger@hopetoun.co.uk or 0131 3193956
URL:https://hopetoun.co.uk/event/dark-skies/
LOCATION:Hopetoun House\, Hopetoun House\, South Queensferry\, City of Edinburgh\, EH30 9SL\, United Kingdom
CATEGORIES:Children,Educational,Family,Nature and Guided Walks
ATTACH;FMTTYPE=image/jpeg:https://hopetoun.co.uk/wp-hopetoun-house/wp-content/uploads/Hopetoun-Floodlit-cropped.jpg
END:VEVENT
BEGIN:VEVENT
DTSTART;TZID=Europe/London:20151025T020000
DTEND;TZID=Europe/London:20151025T153000
DTSTAMP:20260426T044733
CREATED:20150703T142702Z
LAST-MODIFIED:20150921T103848Z
UID:1177-1445738400-1445787000@hopetoun.co.uk
SUMMARY:Fantastic Fungi- Final Fling
DESCRIPTION:The second of two fungi walks this autumn; we hope to explore the fruiting fungi at Hopetoun.  With internationally important fungi lawns\, and woodlands bursting with mushrooms of all shapes and sizes\, you will be guided on a gentle walk to explore the fascinating world of fungi. Please note- we will not be collecting for the pot on this walk. \nSunday 25th October 2pm-3:30pm \nMeeting Place: Main Visitor Car Park \nCost: Grounds entry fee £4.25 adult £2.50 child \nBOOKING ESSENTIAL. Please contact the ranger service on: ranger@hopetoun.co.uk or 0131 3193956
URL:https://hopetoun.co.uk/event/fantastic-fungi-final-fling/
LOCATION:Hopetoun House\, Hopetoun House\, South Queensferry\, City of Edinburgh\, EH30 9SL\, United Kingdom
CATEGORIES:Educational,Nature and Guided Walks
ATTACH;FMTTYPE=image/jpeg:https://hopetoun.co.uk/wp-hopetoun-house/wp-content/uploads/Scaly-Wood-Mushroom.jpg
END:VEVENT
BEGIN:VEVENT
DTSTART;TZID=Europe/London:20150830T153000
DTEND;TZID=Europe/London:20150830T163000
DTSTAMP:20260426T044733
CREATED:20150523T134519Z
LAST-MODIFIED:20150730T084745Z
UID:47-1440948600-1440952200@hopetoun.co.uk
SUMMARY:Grounds Walk
DESCRIPTION:Taking place on the last Sunday of the month\, the ranger led walk will lead you through the nature and history of Hopetoun’s designed landscape and serves to compliment the tour offered inside of the House. Look out for wildlife whilst enjoying the specimen trees and plants of the designed landscape. \nGrounds entry fee: £4.25 adult; £2.50 child. \nBooking is essential. Please contact the ranger service on: ranger@hopetoun.co.uk or 0131 3193956.
URL:https://hopetoun.co.uk/event/grounds-walk/
LOCATION:Hopetoun House\, Hopetoun House\, South Queensferry\, City of Edinburgh\, EH30 9SL\, United Kingdom
CATEGORIES:Children,Educational,Family,Nature and Guided Walks
ATTACH;FMTTYPE=image/jpeg:https://hopetoun.co.uk/wp-hopetoun-house/wp-content/uploads/Grounds-009.jpg
END:VEVENT
BEGIN:VEVENT
DTSTART;VALUE=DATE:20150803
DTEND;VALUE=DATE:20150808
DTSTAMP:20260426T044733
CREATED:20150523T142243Z
LAST-MODIFIED:20150707T084947Z
UID:59-1438560000-1438991999@hopetoun.co.uk
SUMMARY:Wildlife Week
DESCRIPTION:Sign your little nature detectives up for five days of fun exploring the grounds of Hopetoun House. 10-1pm every day\, they will join the rangers and find out about mini-beasts\, mammals\, birds and other wildlife through games\, activities and fun surveys.  Each day will have a different theme\, ranging from a Minibeast safari to exploring the seashore. \nThis activity week is suitable for kids aged 7-12 with an interest in nature and the outdoors. \nCost: £25 per person for the week. \nBooking essential. Please contact the ranger service on: ranger@hopetoun.co.uk or 0131 3193956.
URL:https://hopetoun.co.uk/event/wildlife-week/
LOCATION:Hopetoun House\, Hopetoun House\, South Queensferry\, City of Edinburgh\, EH30 9SL\, United Kingdom
CATEGORIES:Children,Educational,Family,Nature and Guided Walks
ATTACH;FMTTYPE=image/jpeg:https://hopetoun.co.uk/wp-hopetoun-house/wp-content/uploads/DSCF9621.jpg
END:VEVENT
BEGIN:VEVENT
DTSTART;TZID=Europe/London:20150710T103000
DTEND;TZID=Europe/London:20150710T120000
DTSTAMP:20260426T044733
CREATED:20150523T140738Z
LAST-MODIFIED:20150706T165005Z
UID:56-1436524200-1436529600@hopetoun.co.uk
SUMMARY:Deer-Lightful Day Out
DESCRIPTION:Bring the kids along to this fun deer themed guided walk. Take part in games and activities along the way and top it all off with a visit to meet the Hopetoun red deer herd. Meet at the main visitor car park. \nCost: Grounds entry fee £4.25 adult; £2.50 child.
URL:https://hopetoun.co.uk/event/deer-lightful-day-out/
LOCATION:Hopetoun House\, Hopetoun House\, South Queensferry\, City of Edinburgh\, EH30 9SL\, United Kingdom
CATEGORIES:Children,Educational,Family,Nature and Guided Walks
ATTACH;FMTTYPE=image/jpeg:https://hopetoun.co.uk/wp-hopetoun-house/wp-content/uploads/content-regular-deer-close-.jpg
END:VEVENT
BEGIN:VEVENT
DTSTART;TZID=Europe/London:20150614T100000
DTEND;TZID=Europe/London:20150614T143000
DTSTAMP:20260426T044733
CREATED:20150523T135209Z
LAST-MODIFIED:20150526T083235Z
UID:51-1434276000-1434292200@hopetoun.co.uk
SUMMARY:Two Houses and a Castle Walk
DESCRIPTION:Explore the links between three of West Lothian’s most historic sites with a guided walk between Hopetoun\, Blackness Castle and the House of the Binns. Enjoy a lovely summer’s walk\, spot local wildlife and hear about these three places of interest with your guides from The National Trust\, Historic Scotland and Hopetoun Ranger Services. What a great day out! Bring lunch. \nPlease be aware this walk will cover approx. 5 miles with rough underfoot conditions\, fence crossings and requires a good level of fitness. \nCost: £5 per person (not suitable for children). \nBooking is essential. Please contact the ranger service on: ranger@hopetoun.co.uk.
URL:https://hopetoun.co.uk/event/two-houses-and-a-castle-walk/
LOCATION:Hopetoun House\, Hopetoun House\, South Queensferry\, City of Edinburgh\, EH30 9SL\, United Kingdom
CATEGORIES:Children,Educational,Nature and Guided Walks
END:VEVENT
END:VCALENDAR