BEGIN:VCALENDAR
VERSION:2.0
PRODID:-//Hopetoun - ECPv6.15.15//NONSGML v1.0//EN
CALSCALE:GREGORIAN
METHOD:PUBLISH
X-ORIGINAL-URL:https://hopetoun.co.uk
X-WR-CALDESC:Events for Hopetoun
REFRESH-INTERVAL;VALUE=DURATION:PT1H
X-Robots-Tag:noindex
X-PUBLISHED-TTL:PT1H
BEGIN:VTIMEZONE
TZID:UTC
BEGIN:STANDARD
TZOFFSETFROM:+0000
TZOFFSETTO:+0000
TZNAME:UTC
DTSTART:20150101T000000
END:STANDARD
END:VTIMEZONE
BEGIN:VEVENT
DTSTART;VALUE=DATE:20160325
DTEND;VALUE=DATE:20160329
DTSTAMP:20260424T031402
CREATED:20160215T114028Z
LAST-MODIFIED:20160324T103028Z
UID:2794-1458864000-1459209599@hopetoun.co.uk
SUMMARY:Easter Fun at the Farm Shop
DESCRIPTION:Springtime is always a busy time on the Hopetoun farm with new lambs and baby chicks popping up all over the place! \nCome along to the shop over Easter weekend and you can meet some of them for yourself. We’ll be bringing a few of our lambs along to a new pen outside the farm shop and we’re also bringing some of our little chicks along too. \nPLUS if you’re bringing children with you ask them bring along a decorated egg. Every child who brings in a hand decorated egg will get a treat and we’ll proudly display their eggs in the shop. After Easter we will judge the entries and the best egg design will win a Hopetoun sweetie hamper crammed with delicious treats for the family. \nWe’ll also have a special offer on leg of Hopetoun lamb all weekend where you can save 15%. That’s if you can bring yourself to buy some after visiting them outside the shop! \n 
URL:https://hopetoun.co.uk/event/easter-farm-shop-fun/
LOCATION:Hopetoun Farm Shop
CATEGORIES:Children,Family,Food and Drink
END:VEVENT
BEGIN:VEVENT
DTSTART;TZID=UTC:20160325T103000
DTEND;TZID=UTC:20160325T160000
DTSTAMP:20260424T031402
CREATED:20160309T102520Z
LAST-MODIFIED:20160321T091637Z
UID:2897-1458901800-1458921600@hopetoun.co.uk
SUMMARY:Hopetoun House and Grounds Re-Open
DESCRIPTION:Hopetoun House and Grounds will re-open for our 2016 season. We are open daily from Friday 25th March – Sunday 25th September from 10.30am – 5.00pm (Last entry 4.00pm) \nFor more information please visit
URL:https://hopetoun.co.uk/event/hopetoun-house-and-grounds-re-open/
LOCATION:Hopetoun House\, Hopetoun House\, South Queensferry\, City of Edinburgh\, EH30 9SL\, United Kingdom
CATEGORIES:Family,Nature and Guided Walks,Visiting Hopetoun House
ATTACH;FMTTYPE=image/jpeg:https://hopetoun.co.uk/wp-hopetoun-house/wp-content/uploads/Side-angle-of-house.jpg
END:VEVENT
END:VCALENDAR