BEGIN:VCALENDAR
VERSION:2.0
PRODID:-//Hopetoun - ECPv6.15.15//NONSGML v1.0//EN
CALSCALE:GREGORIAN
METHOD:PUBLISH
X-ORIGINAL-URL:https://hopetoun.co.uk
X-WR-CALDESC:Events for Hopetoun
REFRESH-INTERVAL;VALUE=DURATION:PT1H
X-Robots-Tag:noindex
X-PUBLISHED-TTL:PT1H
BEGIN:VTIMEZONE
TZID:Europe/London
BEGIN:DAYLIGHT
TZOFFSETFROM:+0000
TZOFFSETTO:+0100
TZNAME:BST
DTSTART:20140330T010000
END:DAYLIGHT
BEGIN:STANDARD
TZOFFSETFROM:+0100
TZOFFSETTO:+0000
TZNAME:GMT
DTSTART:20141026T010000
END:STANDARD
BEGIN:DAYLIGHT
TZOFFSETFROM:+0000
TZOFFSETTO:+0100
TZNAME:BST
DTSTART:20150329T010000
END:DAYLIGHT
BEGIN:STANDARD
TZOFFSETFROM:+0100
TZOFFSETTO:+0000
TZNAME:GMT
DTSTART:20151025T010000
END:STANDARD
BEGIN:DAYLIGHT
TZOFFSETFROM:+0000
TZOFFSETTO:+0100
TZNAME:BST
DTSTART:20160327T010000
END:DAYLIGHT
BEGIN:STANDARD
TZOFFSETFROM:+0100
TZOFFSETTO:+0000
TZNAME:GMT
DTSTART:20161030T010000
END:STANDARD
END:VTIMEZONE
BEGIN:VEVENT
DTSTART;VALUE=DATE:20150625
DTEND;VALUE=DATE:20150629
DTSTAMP:20260424T182550
CREATED:20150523T135513Z
LAST-MODIFIED:20150701T143948Z
UID:52-1435190400-1435535999@hopetoun.co.uk
SUMMARY:The Gillespie Macandrew Hopetoun Horse Trials
DESCRIPTION:The 2014 Gillespie Macandrew Hopetoun Horse Trials takes place between Thursday 25th June and Sunday 28th June 2015 at Hopetoun House.\n\nThe event will offer a host of activities each day including Shetland Grand National\, Pony Club Games and Jumping\, British Show jumping Competitions\, Lurcher racing and an array of shopping trade stands. The event is a great chance to see some of the country’s top riders competing at Hopetoun.\n\nFor more information on this event please visit the dedicated Hopetoun Horse Trials website.
URL:https://hopetoun.co.uk/event/the-gillespie-macandrew-hopetoun-horse-trials/
LOCATION:Hopetoun House\, Hopetoun House\, South Queensferry\, City of Edinburgh\, EH30 9SL\, United Kingdom
CATEGORIES:Children,Family,Performance and Sporting
ATTACH;FMTTYPE=image/jpeg:https://hopetoun.co.uk/wp-hopetoun-house/wp-content/uploads/Hero-Large-Image-2015-HHT.jpg
END:VEVENT
END:VCALENDAR