BEGIN:VCALENDAR
VERSION:2.0
PRODID:-//Hopetoun - ECPv6.15.15//NONSGML v1.0//EN
CALSCALE:GREGORIAN
METHOD:PUBLISH
X-ORIGINAL-URL:https://hopetoun.co.uk
X-WR-CALDESC:Events for Hopetoun
REFRESH-INTERVAL;VALUE=DURATION:PT1H
X-Robots-Tag:noindex
X-PUBLISHED-TTL:PT1H
BEGIN:VTIMEZONE
TZID:Europe/London
BEGIN:DAYLIGHT
TZOFFSETFROM:+0000
TZOFFSETTO:+0100
TZNAME:BST
DTSTART:20140330T010000
END:DAYLIGHT
BEGIN:STANDARD
TZOFFSETFROM:+0100
TZOFFSETTO:+0000
TZNAME:GMT
DTSTART:20141026T010000
END:STANDARD
BEGIN:DAYLIGHT
TZOFFSETFROM:+0000
TZOFFSETTO:+0100
TZNAME:BST
DTSTART:20150329T010000
END:DAYLIGHT
BEGIN:STANDARD
TZOFFSETFROM:+0100
TZOFFSETTO:+0000
TZNAME:GMT
DTSTART:20151025T010000
END:STANDARD
BEGIN:DAYLIGHT
TZOFFSETFROM:+0000
TZOFFSETTO:+0100
TZNAME:BST
DTSTART:20160327T010000
END:DAYLIGHT
BEGIN:STANDARD
TZOFFSETFROM:+0100
TZOFFSETTO:+0000
TZNAME:GMT
DTSTART:20161030T010000
END:STANDARD
END:VTIMEZONE
BEGIN:VEVENT
DTSTART;TZID=Europe/London:20150711T120000
DTEND;TZID=Europe/London:20150711T150000
DTSTAMP:20260424T170450
CREATED:20150630T120132Z
LAST-MODIFIED:20150706T170401Z
UID:1054-1436616000-1436626800@hopetoun.co.uk
SUMMARY:Ice Cream Tasting!
DESCRIPTION:Following a recent competition at Hopetoun Farm Shop where customers were asked to design their own flavours now is the time to choose the winner – and you’ll be helping us to do this! \nThe following three flavours are in the final and our supplier Giacoppazi has been busy creating these for us to try.  The flavour with the most votes on the day will then be made up and sold exclusively in the shop. Here’s the new flavours that have been shortlisted: \n\nSalted Caramel with Chocolate Pieces and Honeycomb – designed by Lesley Cox\nBanana with Nutella and Caramel Swirls – designed by Julia Hope\nPina Colada Ice Cream (pineapple flavoured ice cream with a swirl of vanilla yoghurt topped with toasted coconut) – designed by Nicola Bruce\n\nWe’ll supply the spoons and all you have to do is tick the box of your favourite flavour and the winning recipe will be made exclusively for us to sell at the shop (and supply to the winner!).
URL:https://hopetoun.co.uk/event/ice-cream-tasting/
LOCATION:Hopetoun Farm Shop
CATEGORIES:Children,Family,Food and Drink
ATTACH;FMTTYPE=image/jpeg:https://hopetoun.co.uk/wp-hopetoun-house/wp-content/uploads/content-regular-ice-cream-c.jpg
END:VEVENT
END:VCALENDAR