BEGIN:VCALENDAR
VERSION:2.0
PRODID:-//Hopetoun - ECPv6.15.15//NONSGML v1.0//EN
CALSCALE:GREGORIAN
METHOD:PUBLISH
X-WR-CALNAME:Hopetoun
X-ORIGINAL-URL:https://hopetoun.co.uk
X-WR-CALDESC:Events for Hopetoun
REFRESH-INTERVAL;VALUE=DURATION:PT1H
X-Robots-Tag:noindex
X-PUBLISHED-TTL:PT1H
BEGIN:VTIMEZONE
TZID:Europe/London
BEGIN:DAYLIGHT
TZOFFSETFROM:+0000
TZOFFSETTO:+0100
TZNAME:BST
DTSTART:20140330T010000
END:DAYLIGHT
BEGIN:STANDARD
TZOFFSETFROM:+0100
TZOFFSETTO:+0000
TZNAME:GMT
DTSTART:20141026T010000
END:STANDARD
BEGIN:DAYLIGHT
TZOFFSETFROM:+0000
TZOFFSETTO:+0100
TZNAME:BST
DTSTART:20150329T010000
END:DAYLIGHT
BEGIN:STANDARD
TZOFFSETFROM:+0100
TZOFFSETTO:+0000
TZNAME:GMT
DTSTART:20151025T010000
END:STANDARD
BEGIN:DAYLIGHT
TZOFFSETFROM:+0000
TZOFFSETTO:+0100
TZNAME:BST
DTSTART:20160327T010000
END:DAYLIGHT
BEGIN:STANDARD
TZOFFSETFROM:+0100
TZOFFSETTO:+0000
TZNAME:GMT
DTSTART:20161030T010000
END:STANDARD
END:VTIMEZONE
BEGIN:VEVENT
DTSTART;TZID=Europe/London:20151119T180000
DTEND;TZID=Europe/London:20151119T210000
DTSTAMP:20260424T113947
CREATED:20151029T233957Z
LAST-MODIFIED:20151116T153525Z
UID:2377-1447956000-1447966800@hopetoun.co.uk
SUMMARY:Farm Shop Christmas Shopping Evening
DESCRIPTION:Come along to Hopetoun Farm Shop on Thursday 19th November for a fabulous late night shopping evening with free foodie samples\, special guests and 10% off your Christmas shopping.* \nChocolates handmade by Wicked\nEnjoy complimentary mulled wine\, mince pies and shortbread whilst you browse the shop’s huge selection of award winning food and drink\, most of which is Scottish\, plus locally reared butchery produce from the Hopetoun farm.  There will also be the chance to sample some of the Estate’s award winning turkey which you can pre-order for Christmas dinner plus tasters of the butcher’s famous steak pies filled with Hopetoun Aberdeen Angus beef. \n  \nChef and author Christopher Trotter\nThere will also be guest appearances on the night including the Linties – a local children’s choir from Linlithgow who’ll be entertaining shoppers with carols from 6.30pm until 7pm.  Also playing a starring role will be local food writer and chef Christopher Trotter. Christopher is showcasing his collection of cookery books which he’ll happy to sign and personalise for any recipient.  Another special guest guaranteed to get your taste buds going is Elaine Forrest\, the owner and chocolatier at Wicked Chocolate in Perthshire \, who will be sampling her fine handmade chocolates in-store. \nAlso joining us on the evening are De Brus Brewery bringing their popular micro brewery ales from Dunfermline and The Very Lovely Sauce Company from Anstruther who make the most amazing caramel sauces including a very festive gingerbread variety! \nPack the perfect hamper for your loved ones\nShoppers can also have fun building personalised gift hampers filled with their all your favourite preserves\, biscuits or traditional confectionery. Why not add a cookery book signed by Christopher to your hamper? There will also be plenty of readymade Hopetoun hampers on display hand built by the staff featuring Hopetoun’s best selling items – a guaranteed win with any foodie this Christmas! \nThis special evening takes place within Hopetoun Farm Shop at Newton near South Queensferry and takes place from 6pm until 9pm. \n*10% discount will be automatically applied to all sales on the evening apart from sales of alcohol\, gift vouchers and pre-orders of butchery.
URL:https://hopetoun.co.uk/event/farm-shop-christmas-shopping-evening/
LOCATION:Hopetoun Farm Shop
CATEGORIES:Family,Food and Drink
ATTACH;FMTTYPE=image/jpeg:https://hopetoun.co.uk/wp-hopetoun-house/wp-content/uploads/xmas-large-content-1.jpg
END:VEVENT
END:VCALENDAR