BEGIN:VCALENDAR
VERSION:2.0
PRODID:-//Hopetoun - ECPv6.15.15//NONSGML v1.0//EN
CALSCALE:GREGORIAN
METHOD:PUBLISH
X-WR-CALNAME:Hopetoun
X-ORIGINAL-URL:https://hopetoun.co.uk
X-WR-CALDESC:Events for Hopetoun
REFRESH-INTERVAL;VALUE=DURATION:PT1H
X-Robots-Tag:noindex
X-PUBLISHED-TTL:PT1H
BEGIN:VTIMEZONE
TZID:Europe/London
BEGIN:DAYLIGHT
TZOFFSETFROM:+0000
TZOFFSETTO:+0100
TZNAME:BST
DTSTART:20140330T010000
END:DAYLIGHT
BEGIN:STANDARD
TZOFFSETFROM:+0100
TZOFFSETTO:+0000
TZNAME:GMT
DTSTART:20141026T010000
END:STANDARD
BEGIN:DAYLIGHT
TZOFFSETFROM:+0000
TZOFFSETTO:+0100
TZNAME:BST
DTSTART:20150329T010000
END:DAYLIGHT
BEGIN:STANDARD
TZOFFSETFROM:+0100
TZOFFSETTO:+0000
TZNAME:GMT
DTSTART:20151025T010000
END:STANDARD
BEGIN:DAYLIGHT
TZOFFSETFROM:+0000
TZOFFSETTO:+0100
TZNAME:BST
DTSTART:20160327T010000
END:DAYLIGHT
BEGIN:STANDARD
TZOFFSETFROM:+0100
TZOFFSETTO:+0000
TZNAME:GMT
DTSTART:20161030T010000
END:STANDARD
END:VTIMEZONE
BEGIN:VEVENT
DTSTART;TZID=Europe/London:20151121T183000
DTEND;TZID=Europe/London:20151121T203000
DTSTAMP:20260424T090317
CREATED:20150709T130259Z
LAST-MODIFIED:20151103T100939Z
UID:1541-1448130600-1448137800@hopetoun.co.uk
SUMMARY:Dark Skies
DESCRIPTION:SOLD OUT! PLEASE CONTACT TO BE ADDED TO THE WAITING LIST \nJoin experts from the Royal Observatory in Edinburgh to explore the night sky at Hopetoun House. Learn about the galaxy’s above your head and spot some seasonal stars for yourself. This one off event is suitable for all ages so bring the whole family and get lost exploring the sights millions of light years away. LIMITED PLACES. Please book soon to avoid disappointment. \nCost: £6 per adult £3 per child \nBOOKING ESSENTIAL. Please contact the ranger service on: ranger@hopetoun.co.uk or 0131 3193956
URL:https://hopetoun.co.uk/event/dark-skies/
LOCATION:Hopetoun House\, Hopetoun House\, South Queensferry\, City of Edinburgh\, EH30 9SL\, United Kingdom
CATEGORIES:Children,Educational,Family,Nature and Guided Walks
ATTACH;FMTTYPE=image/jpeg:https://hopetoun.co.uk/wp-hopetoun-house/wp-content/uploads/Hopetoun-Floodlit-cropped.jpg
END:VEVENT
END:VCALENDAR