BEGIN:VCALENDAR
VERSION:2.0
PRODID:-//Hopetoun - ECPv6.15.15//NONSGML v1.0//EN
CALSCALE:GREGORIAN
METHOD:PUBLISH
X-ORIGINAL-URL:https://hopetoun.co.uk
X-WR-CALDESC:Events for Hopetoun
REFRESH-INTERVAL;VALUE=DURATION:PT1H
X-Robots-Tag:noindex
X-PUBLISHED-TTL:PT1H
BEGIN:VTIMEZONE
TZID:Europe/London
BEGIN:DAYLIGHT
TZOFFSETFROM:+0000
TZOFFSETTO:+0100
TZNAME:BST
DTSTART:20140330T010000
END:DAYLIGHT
BEGIN:STANDARD
TZOFFSETFROM:+0100
TZOFFSETTO:+0000
TZNAME:GMT
DTSTART:20141026T010000
END:STANDARD
BEGIN:DAYLIGHT
TZOFFSETFROM:+0000
TZOFFSETTO:+0100
TZNAME:BST
DTSTART:20150329T010000
END:DAYLIGHT
BEGIN:STANDARD
TZOFFSETFROM:+0100
TZOFFSETTO:+0000
TZNAME:GMT
DTSTART:20151025T010000
END:STANDARD
BEGIN:DAYLIGHT
TZOFFSETFROM:+0000
TZOFFSETTO:+0100
TZNAME:BST
DTSTART:20160327T010000
END:DAYLIGHT
BEGIN:STANDARD
TZOFFSETFROM:+0100
TZOFFSETTO:+0000
TZNAME:GMT
DTSTART:20161030T010000
END:STANDARD
END:VTIMEZONE
BEGIN:VEVENT
DTSTART;TZID=Europe/London:20151206T133000
DTEND;TZID=Europe/London:20151206T150000
DTSTAMP:20260424T085708
CREATED:20150703T143852Z
LAST-MODIFIED:20151103T100752Z
UID:1182-1449408600-1449414000@hopetoun.co.uk
SUMMARY:Crafty Christmas Creations  Family Event
DESCRIPTION:SOLD OUT! PLEASE CONTACT TO BE ADDED TO THE WAITING LIST \nGet hands on at Hopetoun and create some spectacular handmade decorations using natural materials\, why not have a go at making your own Christmas wreath? With crafts available for all ages\, this is a great way for the whole family to get into the festive spirit. Please note\, there will be a morning and an afternoon session with places LIMITED on both\, please book early and specify which session you would like to attend. Cost: £5 per person\, all places must be booked and paid in advance \nSunday 6th December  1:30-3:00pm \nMeeting place: provided upon booking \nBOOKING ESSENTIAL. Please contact the ranger service on: ranger@hopetoun.co.uk or 0131 3193956
URL:https://hopetoun.co.uk/event/crafty-christmas-creations-family-event/
LOCATION:Hopetoun House\, Hopetoun House\, South Queensferry\, City of Edinburgh\, EH30 9SL\, United Kingdom
CATEGORIES:Children,Family
ATTACH;FMTTYPE=image/jpeg:https://hopetoun.co.uk/wp-hopetoun-house/wp-content/uploads/Christmas-Crafts-Dec-2014-015.jpg
END:VEVENT
END:VCALENDAR