BEGIN:VCALENDAR
VERSION:2.0
PRODID:-//Hopetoun - ECPv6.15.15//NONSGML v1.0//EN
CALSCALE:GREGORIAN
METHOD:PUBLISH
X-WR-CALNAME:Hopetoun
X-ORIGINAL-URL:https://hopetoun.co.uk
X-WR-CALDESC:Events for Hopetoun
REFRESH-INTERVAL;VALUE=DURATION:PT1H
X-Robots-Tag:noindex
X-PUBLISHED-TTL:PT1H
BEGIN:VTIMEZONE
TZID:Europe/London
BEGIN:DAYLIGHT
TZOFFSETFROM:+0000
TZOFFSETTO:+0100
TZNAME:BST
DTSTART:20160327T010000
END:DAYLIGHT
BEGIN:STANDARD
TZOFFSETFROM:+0100
TZOFFSETTO:+0000
TZNAME:GMT
DTSTART:20161030T010000
END:STANDARD
BEGIN:DAYLIGHT
TZOFFSETFROM:+0000
TZOFFSETTO:+0100
TZNAME:BST
DTSTART:20170326T010000
END:DAYLIGHT
BEGIN:STANDARD
TZOFFSETFROM:+0100
TZOFFSETTO:+0000
TZNAME:GMT
DTSTART:20171029T010000
END:STANDARD
BEGIN:DAYLIGHT
TZOFFSETFROM:+0000
TZOFFSETTO:+0100
TZNAME:BST
DTSTART:20180325T010000
END:DAYLIGHT
BEGIN:STANDARD
TZOFFSETFROM:+0100
TZOFFSETTO:+0000
TZNAME:GMT
DTSTART:20181028T010000
END:STANDARD
END:VTIMEZONE
BEGIN:VEVENT
DTSTART;TZID=Europe/London:20170817T103000
DTEND;TZID=Europe/London:20170924T160000
DTSTAMP:20260420T030729
CREATED:20170621T102522Z
LAST-MODIFIED:20170817T104129Z
UID:4085-1502965800-1506268800@hopetoun.co.uk
SUMMARY:Heartwood at Hopetoun
DESCRIPTION:Heartwood 2017 exhibition featuring new work responding to Hopetoun House by \nKyra Clegg\nFanny Lam Christie\nSu Grierson\nMartine Foltier Pugh \nThe four artists have installed artwork throughout the house\, the garden and in the gallery. They include sculptures\, artist books\, collages\, drawings\, video and sound work. \nKyra Clegg’s installations respond to the twofold idea of space as being both private and public in Hopetoun House. Fanny Christie looks at the connections with nature in their architecture and surrounding grounds. Su presents the theme of Visible-Invisible\, with works relating to degradation damage\, restoration and conservation of objects and materials\, while Martine has created a series of alternative books in the library. \nEntry to the gallery is free\, while for the house ticket is required as normal.
URL:https://hopetoun.co.uk/event/heartwood-at-hopetoun/
LOCATION:Hopetoun House\, Hopetoun House\, South Queensferry\, City of Edinburgh\, EH30 9SL\, United Kingdom
CATEGORIES:Family,Visiting Hopetoun House
ATTACH;FMTTYPE=image/jpeg:https://hopetoun.co.uk/wp-hopetoun-house/wp-content/uploads/Heartwood-at-Hopetoun-1200-x-800-72dpi.jpg
END:VEVENT
END:VCALENDAR