BEGIN:VCALENDAR
VERSION:2.0
PRODID:-//Hopetoun - ECPv6.15.15//NONSGML v1.0//EN
CALSCALE:GREGORIAN
METHOD:PUBLISH
X-ORIGINAL-URL:https://hopetoun.co.uk
X-WR-CALDESC:Events for Hopetoun
REFRESH-INTERVAL;VALUE=DURATION:PT1H
X-Robots-Tag:noindex
X-PUBLISHED-TTL:PT1H
BEGIN:VTIMEZONE
TZID:UTC
BEGIN:STANDARD
TZOFFSETFROM:+0000
TZOFFSETTO:+0000
TZNAME:UTC
DTSTART:20160101T000000
END:STANDARD
END:VTIMEZONE
BEGIN:VEVENT
DTSTART;TZID=UTC:20171018T140000
DTEND;TZID=UTC:20171018T153000
DTSTAMP:20260419T223238
CREATED:20160204T154500Z
LAST-MODIFIED:20170926T091054Z
UID:2785-1508335200-1508340600@hopetoun.co.uk
SUMMARY:Woodland Magic
DESCRIPTION:FULLY BOOKED \nWitches and Wizards\, bring your human adults and teach them how to make potions and broomsticks in the magical woods at Hopetoun. A family challenge to make magical memories. \nMeeting Place: Ranger Centre \nCost: Grounds entry fee £4.55 adult £2.80 child \nThis event is suitable for children and is autism friendly. \nThis event is now fully booked.
URL:https://hopetoun.co.uk/event/woodland-magic/
LOCATION:Hopetoun House\, Hopetoun House\, South Queensferry\, City of Edinburgh\, EH30 9SL\, United Kingdom
CATEGORIES:Children,Family,Visiting Hopetoun House
ATTACH;FMTTYPE=image/jpeg:https://hopetoun.co.uk/wp-hopetoun-house/wp-content/uploads/quidditch-2d.jpg
END:VEVENT
END:VCALENDAR