BEGIN:VCALENDAR
VERSION:2.0
PRODID:-//Hopetoun - ECPv6.15.15//NONSGML v1.0//EN
CALSCALE:GREGORIAN
METHOD:PUBLISH
X-WR-CALNAME:Hopetoun
X-ORIGINAL-URL:https://hopetoun.co.uk
X-WR-CALDESC:Events for Hopetoun
REFRESH-INTERVAL;VALUE=DURATION:PT1H
X-Robots-Tag:noindex
X-PUBLISHED-TTL:PT1H
BEGIN:VTIMEZONE
TZID:Europe/London
BEGIN:DAYLIGHT
TZOFFSETFROM:+0000
TZOFFSETTO:+0100
TZNAME:BST
DTSTART:20170326T010000
END:DAYLIGHT
BEGIN:STANDARD
TZOFFSETFROM:+0100
TZOFFSETTO:+0000
TZNAME:GMT
DTSTART:20171029T010000
END:STANDARD
BEGIN:DAYLIGHT
TZOFFSETFROM:+0000
TZOFFSETTO:+0100
TZNAME:BST
DTSTART:20180325T010000
END:DAYLIGHT
BEGIN:STANDARD
TZOFFSETFROM:+0100
TZOFFSETTO:+0000
TZNAME:GMT
DTSTART:20181028T010000
END:STANDARD
BEGIN:DAYLIGHT
TZOFFSETFROM:+0000
TZOFFSETTO:+0100
TZNAME:BST
DTSTART:20190331T010000
END:DAYLIGHT
BEGIN:STANDARD
TZOFFSETFROM:+0100
TZOFFSETTO:+0000
TZNAME:GMT
DTSTART:20191027T010000
END:STANDARD
END:VTIMEZONE
BEGIN:VEVENT
DTSTART;TZID=Europe/London:20180225T103000
DTEND;TZID=Europe/London:20180225T160000
DTSTAMP:20260419T162645
CREATED:20170109T105516Z
LAST-MODIFIED:20171219T151734Z
UID:3488-1519554600-1519574400@hopetoun.co.uk
SUMMARY:Snowdrop Sunday
DESCRIPTION:Scottish Snowdrop Festival \nHopetoun’s grounds are open for one day only this winter as part of the Scottish Snowdrop Festival. Head out on a self led wander and explore the natural snowdrop display in the Hopetoun hundred acres. Warm up with delicious food and hot drinks in the stables tearoom\, open exclusively to Snowdrop Sunday visitors or book a place on the afternoon guided walk. What better way to spend your Sunday? \n  \nCost: Grounds entry fee £4.55 adult £2.80 child\nBOOKING ESSENTIAL FOR GUIDED WALK. Please contact the ranger service on: ranger@hopetoun.co.uk or 0131 3193956
URL:https://hopetoun.co.uk/event/snowdrop-walk/
LOCATION:Hopetoun House\, Hopetoun House\, South Queensferry\, City of Edinburgh\, EH30 9SL\, United Kingdom
CATEGORIES:Children,Family,Nature and Guided Walks,Visiting Hopetoun House
ATTACH;FMTTYPE=image/jpeg:https://hopetoun.co.uk/wp-hopetoun-house/wp-content/uploads/snowdrops_014.jpg
END:VEVENT
END:VCALENDAR