BEGIN:VCALENDAR
VERSION:2.0
PRODID:-//Hopetoun - ECPv6.15.15//NONSGML v1.0//EN
CALSCALE:GREGORIAN
METHOD:PUBLISH
X-WR-CALNAME:Hopetoun
X-ORIGINAL-URL:https://hopetoun.co.uk
X-WR-CALDESC:Events for Hopetoun
REFRESH-INTERVAL;VALUE=DURATION:PT1H
X-Robots-Tag:noindex
X-PUBLISHED-TTL:PT1H
BEGIN:VTIMEZONE
TZID:Europe/London
BEGIN:DAYLIGHT
TZOFFSETFROM:+0000
TZOFFSETTO:+0100
TZNAME:BST
DTSTART:20220327T010000
END:DAYLIGHT
BEGIN:STANDARD
TZOFFSETFROM:+0100
TZOFFSETTO:+0000
TZNAME:GMT
DTSTART:20221030T010000
END:STANDARD
BEGIN:DAYLIGHT
TZOFFSETFROM:+0000
TZOFFSETTO:+0100
TZNAME:BST
DTSTART:20230326T010000
END:DAYLIGHT
BEGIN:STANDARD
TZOFFSETFROM:+0100
TZOFFSETTO:+0000
TZNAME:GMT
DTSTART:20231029T010000
END:STANDARD
BEGIN:DAYLIGHT
TZOFFSETFROM:+0000
TZOFFSETTO:+0100
TZNAME:BST
DTSTART:20240331T010000
END:DAYLIGHT
BEGIN:STANDARD
TZOFFSETFROM:+0100
TZOFFSETTO:+0000
TZNAME:GMT
DTSTART:20241027T010000
END:STANDARD
END:VTIMEZONE
BEGIN:VEVENT
DTSTART;TZID=Europe/London:20230903T100000
DTEND;TZID=Europe/London:20230903T133000
DTSTAMP:20260419T143719
CREATED:20230711T123256Z
LAST-MODIFIED:20230711T123306Z
UID:8325-1693735200-1693747800@hopetoun.co.uk
SUMMARY:Groovy Geology
DESCRIPTION:As part of the Scottish Geology Festival\, join in on a Ranger-led stroll along the Hopetoun foreshore exploring part of the best of West Lothian’s geological resource.  We might even spot some local wildlife as we go!  Not suitable for children under 8. \nThis walk will cover approx. 3 miles with rough underfoot conditions and requires a good level of fitness. \nMeeting Place: Main Visitor Car Park at Hopetoun House \nCost: £6.50 \nClick here to book \nBooking essential as space is limited
URL:https://hopetoun.co.uk/event/groovy-geology-4/
LOCATION:Hopetoun House\, Hopetoun House\, South Queensferry\, City of Edinburgh\, EH30 9SL\, United Kingdom
CATEGORIES:Nature and Guided Walks
END:VEVENT
BEGIN:VEVENT
DTSTART;TZID=Europe/London:20230909T113000
DTEND;TZID=Europe/London:20230909T123000
DTSTAMP:20260419T143719
CREATED:20230711T123846Z
LAST-MODIFIED:20230711T123846Z
UID:8326-1694259000-1694262600@hopetoun.co.uk
SUMMARY:Hopetoun History Walk
DESCRIPTION:This Ranger-led walk will guide you through the nature and history of Hopetoun’s designed landscape and aims to compliment the information offered inside the House.  Look out for wildlife whilst enjoying the specimen trees and plants of the designed landscape. \nMeeting Place: Main Visitor Car Park at Hopetoun House \nCost: £6.50 \nClick here to book \nBooking essential as space is limited
URL:https://hopetoun.co.uk/event/hopetoun-history-walk-2/
LOCATION:Hopetoun House\, Hopetoun House\, South Queensferry\, City of Edinburgh\, EH30 9SL\, United Kingdom
CATEGORIES:Nature and Guided Walks
END:VEVENT
BEGIN:VEVENT
DTSTART;TZID=Europe/London:20230916T120000
DTEND;TZID=Europe/London:20230916T160000
DTSTAMP:20260419T143719
CREATED:20230711T124222Z
LAST-MODIFIED:20230915T085832Z
UID:8327-1694865600-1694880000@hopetoun.co.uk
SUMMARY:September Family Day ** SOLD OUT**
DESCRIPTION:Come celebrate Scotland’s Stories at Hopetoun!\n\nJoin us on Saturday 16th September\, from 12pm – 4pm to learn all about Scotland’s folktales and stories\, with fun activities for the whole family.\n\n✨Mythical Creatures trail\n✨Story corner\n✨Storytelling sessions\n✨Faerie craft\n✨Story stick activity\n✨Meet a real unicorn!\n✨All within the beautiful (and magical) grounds of Hopetoun House\nMeeting Place: Staff/signage will direct you on the day. \nCost: Grounds entrance \n BOOKING ESSENTIAL \n£4 supplement on the day to walk a unicorn. Bringing cash is advisable as raffle available on day
URL:https://hopetoun.co.uk/event/september-family-day/
LOCATION:Hopetoun House\, Hopetoun House\, South Queensferry\, City of Edinburgh\, EH30 9SL\, United Kingdom
CATEGORIES:Children,Family,Nature and Guided Walks
END:VEVENT
END:VCALENDAR