BEGIN:VCALENDAR
VERSION:2.0
PRODID:-//Hopetoun - ECPv6.15.15//NONSGML v1.0//EN
CALSCALE:GREGORIAN
METHOD:PUBLISH
X-ORIGINAL-URL:https://hopetoun.co.uk
X-WR-CALDESC:Events for Hopetoun
REFRESH-INTERVAL;VALUE=DURATION:PT1H
X-Robots-Tag:noindex
X-PUBLISHED-TTL:PT1H
BEGIN:VTIMEZONE
TZID:Europe/London
BEGIN:DAYLIGHT
TZOFFSETFROM:+0000
TZOFFSETTO:+0100
TZNAME:BST
DTSTART:20220327T010000
END:DAYLIGHT
BEGIN:STANDARD
TZOFFSETFROM:+0100
TZOFFSETTO:+0000
TZNAME:GMT
DTSTART:20221030T010000
END:STANDARD
BEGIN:DAYLIGHT
TZOFFSETFROM:+0000
TZOFFSETTO:+0100
TZNAME:BST
DTSTART:20230326T010000
END:DAYLIGHT
BEGIN:STANDARD
TZOFFSETFROM:+0100
TZOFFSETTO:+0000
TZNAME:GMT
DTSTART:20231029T010000
END:STANDARD
BEGIN:DAYLIGHT
TZOFFSETFROM:+0000
TZOFFSETTO:+0100
TZNAME:BST
DTSTART:20240331T010000
END:DAYLIGHT
BEGIN:STANDARD
TZOFFSETFROM:+0100
TZOFFSETTO:+0000
TZNAME:GMT
DTSTART:20241027T010000
END:STANDARD
END:VTIMEZONE
BEGIN:VEVENT
DTSTART;TZID=Europe/London:20230528T113000
DTEND;TZID=Europe/London:20230528T113000
DTSTAMP:20260420T015552
CREATED:20230525T100651Z
LAST-MODIFIED:20230526T103943Z
UID:8169-1685273400-1685273400@hopetoun.co.uk
SUMMARY:Hopetoun Spring Grounds Walk
DESCRIPTION:This Ranger-led walk will guide you through the nature and history of Hopetoun’s designed landscape.  As spring starts to turn into summer\, spectacular displays of blossom\, with bluebell-filled woodlands and spectacular rhododendrons\, are all around. Look out for wildlife whilst enjoying the specimen trees and plants of the designed landscape. \nMeeting Place: Main Visitor Car Park at Hopetoun House \nBooking Essential as space is limited \nTo book tickets click here
URL:https://hopetoun.co.uk/event/hopetoun-spring-grounds-walk/
CATEGORIES:Nature and Guided Walks
END:VEVENT
END:VCALENDAR