BEGIN:VCALENDAR
VERSION:2.0
PRODID:-//Hopetoun - ECPv6.15.15//NONSGML v1.0//EN
CALSCALE:GREGORIAN
METHOD:PUBLISH
X-WR-CALNAME:Hopetoun
X-ORIGINAL-URL:https://hopetoun.co.uk
X-WR-CALDESC:Events for Hopetoun
REFRESH-INTERVAL;VALUE=DURATION:PT1H
X-Robots-Tag:noindex
X-PUBLISHED-TTL:PT1H
BEGIN:VTIMEZONE
TZID:Europe/London
BEGIN:DAYLIGHT
TZOFFSETFROM:+0000
TZOFFSETTO:+0100
TZNAME:BST
DTSTART:20140330T010000
END:DAYLIGHT
BEGIN:STANDARD
TZOFFSETFROM:+0100
TZOFFSETTO:+0000
TZNAME:GMT
DTSTART:20141026T010000
END:STANDARD
BEGIN:DAYLIGHT
TZOFFSETFROM:+0000
TZOFFSETTO:+0100
TZNAME:BST
DTSTART:20150329T010000
END:DAYLIGHT
BEGIN:STANDARD
TZOFFSETFROM:+0100
TZOFFSETTO:+0000
TZNAME:GMT
DTSTART:20151025T010000
END:STANDARD
BEGIN:DAYLIGHT
TZOFFSETFROM:+0000
TZOFFSETTO:+0100
TZNAME:BST
DTSTART:20160327T010000
END:DAYLIGHT
BEGIN:STANDARD
TZOFFSETFROM:+0100
TZOFFSETTO:+0000
TZNAME:GMT
DTSTART:20161030T010000
END:STANDARD
END:VTIMEZONE
BEGIN:VEVENT
DTSTART;TZID=Europe/London:20150912T120000
DTEND;TZID=Europe/London:20150912T160000
DTSTAMP:20260426T044459
CREATED:20150825T145527Z
LAST-MODIFIED:20150825T150039Z
UID:1992-1442059200-1442073600@hopetoun.co.uk
SUMMARY:Fruit Wine Tastings
DESCRIPTION:Since 1987 the Cairn o’ Mohr Winery in Pethshire has been brewing up juicy-fruity\, berry loaded\, blossom scented\, leafy layered\, award winning country wines\, using the berries for which this area is famous\, wild flowers\, fruits and leaves. \nPop along\, meet the team and enjoy a few complimentary samples as you shop. Fruity! \nHere’s some background on the winery but you can ask them any questions in person if you’re coming along.
URL:https://hopetoun.co.uk/event/fruit-wine-tastings/
LOCATION:Hopetoun Farm Shop
CATEGORIES:Food and Drink
ATTACH;FMTTYPE=image/jpeg:https://hopetoun.co.uk/wp-hopetoun-house/wp-content/uploads/Cairn-O-Mhor-Content-Regula.jpg
END:VEVENT
BEGIN:VEVENT
DTSTART;VALUE=DATE:20150918
DTEND;VALUE=DATE:20150919
DTSTAMP:20260426T044459
CREATED:20150826T075931Z
LAST-MODIFIED:20150826T075931Z
UID:1995-1442534400-1442620799@hopetoun.co.uk
SUMMARY:Simulated Game Day Available Guns
DESCRIPTION:We are delighted to offer availability for individual guns to come along on one of our Simulated Game Days. We usually take a team of 6 or more\, but if you are a single gun or know just a couple of people who would like to come along\, we have a few dates where you can join others to make a team. \nA simulated day consists of arrival on the estate for breakfast rolls followed by 3 drives in the morning\, a 2 course lunch and a further 2 drives in the afternoon. Grouse\, pigeon\, duck\, partridge and high pheasant drives are replicated throughout the day\, please have a look at our Simulated Game Page for further information. \nWe have three dates available at the moment: Friday 18th September; Friday 2nd October; Saturday 3rd October and Friday 9th October. \nPlease contact Hopetoun Clays on 0131 331 9940 or clays@hopetoun.co.uk if you would like to book a space.
URL:https://hopetoun.co.uk/event/simulated-game-day-available-guns/
LOCATION:Hopetoun Clays\, Pinetum Woods\, Nr Newton Village\, Broxburn\, west lothian\, EH52 6QD\, United Kingdom
CATEGORIES:Performance and Sporting
ATTACH;FMTTYPE=image/jpeg:https://hopetoun.co.uk/wp-hopetoun-house/wp-content/uploads/highlight_landscape_8.jpg
ORGANIZER;CN="Hopetoun Clays":MAILTO:clays@hopetoun.co.uk
END:VEVENT
BEGIN:VEVENT
DTSTART;TZID=Europe/London:20150919T120000
DTEND;TZID=Europe/London:20150919T153000
DTSTAMP:20260426T044459
CREATED:20150825T141040Z
LAST-MODIFIED:20150914T135124Z
UID:1986-1442664000-1442676600@hopetoun.co.uk
SUMMARY:Chocolate Truffle Making
DESCRIPTION:We are absolutely delighted to welcome Elaine from Wicked Chocolate in Perthshire back to Hopetoun Farm Shop.  Not only will you have a chance to nibble on some free chocolate samples but she’ll also be doing some fascinating truffle making demonstrations for you to watch. Time to get inspired… \n 
URL:https://hopetoun.co.uk/event/chocolate-truffle-making-at-hopetoun-farm-shop/
LOCATION:Hopetoun Farm Shop
CATEGORIES:Food and Drink
ATTACH;FMTTYPE=image/jpeg:https://hopetoun.co.uk/wp-hopetoun-house/wp-content/uploads/wicked-truffles-web-reg-lan.jpg
END:VEVENT
BEGIN:VEVENT
DTSTART;TZID=Europe/London:20150919T120000
DTEND;TZID=Europe/London:20150919T153000
DTSTAMP:20260426T044459
CREATED:20150825T143226Z
LAST-MODIFIED:20150825T144609Z
UID:1991-1442664000-1442676600@hopetoun.co.uk
SUMMARY:Continental Sausage Tastings
DESCRIPTION:Join the team from Peelham Farm in the Scottish Borders and try their delightful range of organic continental sausages made with their own reared produce at their farm. Try free samples of their amazing Chorizo and Italliene varieties and use the opportunity to ask the Peelham team anything about how they rear or produce their range.
URL:https://hopetoun.co.uk/event/continental-sausage-tastings/
LOCATION:Hopetoun Farm Shop
CATEGORIES:Food and Drink
ATTACH;FMTTYPE=image/jpeg:https://hopetoun.co.uk/wp-hopetoun-house/wp-content/uploads/peelham-web-reg-land.jpg
END:VEVENT
BEGIN:VEVENT
DTSTART;TZID=Europe/London:20150920T140000
DTEND;TZID=Europe/London:20150920T153000
DTSTAMP:20260426T044459
CREATED:20150703T142022Z
LAST-MODIFIED:20150723T111932Z
UID:1174-1442757600-1442763000@hopetoun.co.uk
SUMMARY:Fantastic Fungi- First Flourish
DESCRIPTION:The first of two fungi walks this autumn; we hope to explore the earlier fruiting fungi at Hopetoun.  With internationally important fungi lawns\, and woodlands bursting with mushrooms of all shapes and sizes\, you will be guided on a gentle walk to explore the fascinating world of fungi. Please note- we will not be collecting for the pot on this walk. \nSunday 20th September 2pm-3:30pm \nMeeting Place: Main Visitor Car Park \nCost: Grounds entry fee £4.25 adult £2.50 child \nBOOKING ESSENTIAL. Please contact the ranger service on: ranger@hopetoun.co.uk or 0131 3193956
URL:https://hopetoun.co.uk/event/fantastic-fungi-first-flourish/
LOCATION:Hopetoun House\, Hopetoun House\, South Queensferry\, City of Edinburgh\, EH30 9SL\, United Kingdom
CATEGORIES:Nature and Guided Walks
ATTACH;FMTTYPE=image/jpeg:https://hopetoun.co.uk/wp-hopetoun-house/wp-content/uploads/Fughi-Content-1.jpg
END:VEVENT
BEGIN:VEVENT
DTSTART;TZID=Europe/London:20150926T110000
DTEND;TZID=Europe/London:20150926T150000
DTSTAMP:20260426T044459
CREATED:20150922T130852Z
LAST-MODIFIED:20150922T130957Z
UID:2103-1443265200-1443279600@hopetoun.co.uk
SUMMARY:Roast Beef Saturday
DESCRIPTION:  \nIf you feel like tasting some delicious roast beef this Saturday\, then pop along to Hopetoun Farm Shop between 11am – 3pm.  As well as enjoying some treats\, there’ll be 10% off our Silverside and Topside beef until Sunday 27th September.
URL:https://hopetoun.co.uk/event/roast-beef-saturday/
LOCATION:Hopetoun Farm Shop
CATEGORIES:Food and Drink
ATTACH;FMTTYPE=image/jpeg:https://hopetoun.co.uk/wp-hopetoun-house/wp-content/uploads/beef2.jpg
END:VEVENT
END:VCALENDAR