BEGIN:VCALENDAR
VERSION:2.0
PRODID:-//Hopetoun - ECPv6.15.15//NONSGML v1.0//EN
CALSCALE:GREGORIAN
METHOD:PUBLISH
X-WR-CALNAME:Hopetoun
X-ORIGINAL-URL:https://hopetoun.co.uk
X-WR-CALDESC:Events for Hopetoun
REFRESH-INTERVAL;VALUE=DURATION:PT1H
X-Robots-Tag:noindex
X-PUBLISHED-TTL:PT1H
BEGIN:VTIMEZONE
TZID:Europe/London
BEGIN:DAYLIGHT
TZOFFSETFROM:+0000
TZOFFSETTO:+0100
TZNAME:BST
DTSTART:20150329T010000
END:DAYLIGHT
BEGIN:STANDARD
TZOFFSETFROM:+0100
TZOFFSETTO:+0000
TZNAME:GMT
DTSTART:20151025T010000
END:STANDARD
BEGIN:DAYLIGHT
TZOFFSETFROM:+0000
TZOFFSETTO:+0100
TZNAME:BST
DTSTART:20160327T010000
END:DAYLIGHT
BEGIN:STANDARD
TZOFFSETFROM:+0100
TZOFFSETTO:+0000
TZNAME:GMT
DTSTART:20161030T010000
END:STANDARD
BEGIN:DAYLIGHT
TZOFFSETFROM:+0000
TZOFFSETTO:+0100
TZNAME:BST
DTSTART:20170326T010000
END:DAYLIGHT
BEGIN:STANDARD
TZOFFSETFROM:+0100
TZOFFSETTO:+0000
TZNAME:GMT
DTSTART:20171029T010000
END:STANDARD
END:VTIMEZONE
BEGIN:VEVENT
DTSTART;VALUE=DATE:20160611
DTEND;VALUE=DATE:20160612
DTSTAMP:20260425T131516
CREATED:20160425T132052Z
LAST-MODIFIED:20160518T110230Z
UID:3033-1465603200-1465689599@hopetoun.co.uk
SUMMARY:Ladies Shooting Day (SOLD OUT)
DESCRIPTION:This event has now SOLD OUT. \nHopetoun Clays are delighted to be one of the chosen venues for the 2016 National Ladies Shooting Day events on 11th June. \nTaking place at shooting grounds right across the UK its a celebration of ladies who shoot\, or want to try shooting.  The events are suitable for total beginners or experienced ladies and cost just £39.50pp  including 30 cartridges and clays\, top tuition\, ear and eye protection and a day to remember. There’s also some amazing prizes up for grabs! \nSo if you fancy taking part then book your place(s) with the event coordinators directly via their website and we look forward to seeing you here at Hopetoun on Saturday 11th June.
URL:https://hopetoun.co.uk/event/ladies-shooting-day/
LOCATION:Hopetoun Clays\, Pinetum Woods\, Nr Newton Village\, Broxburn\, west lothian\, EH52 6QD\, United Kingdom
ATTACH;FMTTYPE=image/jpeg:https://hopetoun.co.uk/wp-hopetoun-house/wp-content/uploads/ladies-shooting-for-web.jpg
END:VEVENT
BEGIN:VEVENT
DTSTART;VALUE=DATE:20160616
DTEND;VALUE=DATE:20160620
DTSTAMP:20260425T131516
CREATED:20151203T094138Z
LAST-MODIFIED:20160516T142134Z
UID:2536-1466035200-1466380799@hopetoun.co.uk
SUMMARY:Gillespie Macandrew Hopetoun Horse Trials
DESCRIPTION:This will be Hopetoun’s sixth year hosting a horse trials following the first ever event back in 2011. The Gillespie Macandrew International Horse Trials is located on the magnificent estate with the 17th Century stately home Hopetoun House in the centre of the action.  Only 12 miles West of Edinburgh and within 45 minutes of all cities in the central belt Hopetoun’s 2016 event is one of Scotland’s biggest annual horse trials attracting competitors from all over the world. \nTaking place a little earlier than usual keep your diaries free from Thursday 16th – Sunday 19th June 2016 and visit www.hopetounhorsetrials.com for all event information\, entry details and tickets. \n*NEW ticket offer for 2016*\nVisit Hopetoun House and get a free ticket for the event! \nSimply buy an entry ticket for Hopetoun House\, enjoy a wonderful day touring the stately home and grounds and then come back for the trials in June with your completely free ticket worth up to £20. Just ask at the ticket kiosk when buying your entry ticket for Hopetoun House and your event ticket is valid for any day between 16th and 19th June 2016. \nFor more information on visiting Hopetoun House please visit the House & Grounds page. \nEvent Contact Details\nIf you have any enquiries in the meantime\, including sponsorship opportunities available\, please contact Bede Events on the number below. \nBede Events Ltd \nTel:07464 803781 \nE: info@bedeltd.co.uk \n 
URL:https://hopetoun.co.uk/event/gillespie-macandrew-hopetoun-horse-trials/
LOCATION:Hopetoun House\, Hopetoun House\, South Queensferry\, City of Edinburgh\, EH30 9SL\, United Kingdom
CATEGORIES:Children,Family,Performance and Sporting,Visiting Hopetoun House
ATTACH;FMTTYPE=image/jpeg:https://hopetoun.co.uk/wp-hopetoun-house/wp-content/uploads/Content-large-20151.jpg
END:VEVENT
END:VCALENDAR