BEGIN:VCALENDAR
VERSION:2.0
PRODID:-//Hopetoun - ECPv6.15.15//NONSGML v1.0//EN
CALSCALE:GREGORIAN
METHOD:PUBLISH
X-WR-CALNAME:Hopetoun
X-ORIGINAL-URL:https://hopetoun.co.uk
X-WR-CALDESC:Events for Hopetoun
REFRESH-INTERVAL;VALUE=DURATION:PT1H
X-Robots-Tag:noindex
X-PUBLISHED-TTL:PT1H
BEGIN:VTIMEZONE
TZID:Europe/London
BEGIN:DAYLIGHT
TZOFFSETFROM:+0000
TZOFFSETTO:+0100
TZNAME:BST
DTSTART:20160327T010000
END:DAYLIGHT
BEGIN:STANDARD
TZOFFSETFROM:+0100
TZOFFSETTO:+0000
TZNAME:GMT
DTSTART:20161030T010000
END:STANDARD
BEGIN:DAYLIGHT
TZOFFSETFROM:+0000
TZOFFSETTO:+0100
TZNAME:BST
DTSTART:20170326T010000
END:DAYLIGHT
BEGIN:STANDARD
TZOFFSETFROM:+0100
TZOFFSETTO:+0000
TZNAME:GMT
DTSTART:20171029T010000
END:STANDARD
BEGIN:DAYLIGHT
TZOFFSETFROM:+0000
TZOFFSETTO:+0100
TZNAME:BST
DTSTART:20180325T010000
END:DAYLIGHT
BEGIN:STANDARD
TZOFFSETFROM:+0100
TZOFFSETTO:+0000
TZNAME:GMT
DTSTART:20181028T010000
END:STANDARD
END:VTIMEZONE
BEGIN:VEVENT
DTSTART;TZID=Europe/London:20170616T183000
DTEND;TZID=Europe/London:20170616T203000
DTSTAMP:20260424T145944
CREATED:20170324T112230Z
LAST-MODIFIED:20170324T112738Z
UID:3992-1497637800-1497645000@hopetoun.co.uk
SUMMARY:The Wind in the Willow
DESCRIPTION:Chapterhouse Theatre Company Open Air Garden Theatre presents an adaptation of The Wind in the Willow. Join Badgar\, Ratty\, Mole and Toad for a perfect summer of adventure. What starts as a search for the best picnic spot rapidly turns into the most hilarious of escapades. With the bumptious Toad’s heart set on a shiny new motorcar and his very liberty soon at stake\, will his faithful friends come to his rescue – and will he let them? \nAlive with music and song\, the magical family show is presented in beautiful traditional costume and features a woodland parade during the interval for everyone to join in with! Fun and frolics aplenty with this adaptation of the classic novel beloved be children and adult a like. \nGates open at 5.30pm. Please bring your own rugs or low-backed seating. \nAdult £15/ Children £10/ Family (2 adults and 2 children) £44 \n10% discounts for parties of 10 or more \nBook your tickets online here or call 0131 331 2451 \n 
URL:https://hopetoun.co.uk/event/the-wind-and-the-willow/
LOCATION:Hopetoun House\, Hopetoun House\, South Queensferry\, City of Edinburgh\, EH30 9SL\, United Kingdom
ATTACH;FMTTYPE=image/jpeg:https://hopetoun.co.uk/wp-hopetoun-house/wp-content/uploads/chapterhouse.jpg
END:VEVENT
BEGIN:VEVENT
DTSTART;TZID=Europe/London:20170618T110000
DTEND;TZID=Europe/London:20170618T160000
DTSTAMP:20260424T145944
CREATED:20170614T074532Z
LAST-MODIFIED:20170614T090807Z
UID:4082-1497783600-1497801600@hopetoun.co.uk
SUMMARY:Father's Day at Hopetoun House
DESCRIPTION:Come and join us this Father’s day at Hopetoun House where we will be joined by members of the Rolls-Royce Enthusiasts Club. \nThis event is part of a Round Britain tour of Rolls-Royce Silver Ghost motor cars dating back to 1907 whose owners have brought these magnificent cars from as far afield as Canada and the USA\, Australia\, Africa and Europe. They will also be accompanied by many more modern Rolls-Royce and Bentley cars belonging to members of the Rolls-Royce Enthusiasts Club. \nThe event will run from 11am – 4pm with performances from the George Heriot’s School Band starting at 12pm. \nAdmission to the House and surrounding Grounds is by ticket only. Please see below for details on ticket pricing\, this event has no extra costs: \n\n\n\n\n          House and Grounds\n\n\nGrounds Only\n\n\n\nAdult\n£9.85\n£4.55\n\n\nChildren\n£5.45\n£2.80\n\n\nPensioner/Student\n£8.60\n£3.95\n\n\nGroups (15+)\n£8.60\n£3.95\n\n\nFamily (2 + 2)\n£27.00\n£13.00\n\n\nRegistered Disabled\n£5.45\n£2.80\n\n\n\n  \nThe stables tearoom is open from 11am – 4:30pm and is perfect for a special Father’s Day lunch. It is advised to book in advance to guarantee a table at your preferred time. Please contact 0131 331 3661
URL:https://hopetoun.co.uk/event/fathers-day-hopetoun-house-2/
LOCATION:Hopetoun House\, Hopetoun House\, South Queensferry\, City of Edinburgh\, EH30 9SL\, United Kingdom
CATEGORIES:Family,Performance and Sporting,Visiting Hopetoun House
ATTACH;FMTTYPE=image/png:https://hopetoun.co.uk/wp-hopetoun-house/wp-content/uploads/l.png
END:VEVENT
END:VCALENDAR