BEGIN:VCALENDAR
VERSION:2.0
PRODID:-//Hopetoun - ECPv6.15.15//NONSGML v1.0//EN
CALSCALE:GREGORIAN
METHOD:PUBLISH
X-ORIGINAL-URL:https://hopetoun.co.uk
X-WR-CALDESC:Events for Hopetoun
REFRESH-INTERVAL;VALUE=DURATION:PT1H
X-Robots-Tag:noindex
X-PUBLISHED-TTL:PT1H
BEGIN:VTIMEZONE
TZID:UTC
BEGIN:STANDARD
TZOFFSETFROM:+0000
TZOFFSETTO:+0000
TZNAME:UTC
DTSTART:20170101T000000
END:STANDARD
END:VTIMEZONE
BEGIN:VEVENT
DTSTART;TZID=UTC:20181028T110000
DTEND;TZID=UTC:20181028T160000
DTSTAMP:20260420T084057
CREATED:20150921T105004Z
LAST-MODIFIED:20180926T124304Z
UID:2612-1540724400-1540742400@hopetoun.co.uk
SUMMARY:Wedding Showcase Event
DESCRIPTION:Whether you are considering Hopetoun House to host your special day\, or you have already booked your wedding at Hopetoun\, we would be delighted to welcome you and your bridal party to Hopetoun on Sunday 28th of October from 11am to 4pm. \nOn the day you will have the opportunity to see Hopetoun set up for a wedding ceremony and reception and our experienced team will be available to discuss your plans and answer any questions you may have. \nYou will also have the opportunity to meet with our preferred suppliers to see how they can enhance your day. \nThis exclusive event is strictly by appointment only so please contact a member of our weddings team on weddings@hopetoun.co.uk or call 0131 331 2451 to make your personal appointment. \nWedding Showcase Event | Sunday 28th October 2018 | 11am – 4pm | 0131 331 2451 | weddings@hopetoun.co.uk
URL:https://hopetoun.co.uk/event/wedding-showcase-event/
LOCATION:Hopetoun House\, Hopetoun House\, South Queensferry\, City of Edinburgh\, EH30 9SL\, United Kingdom
CATEGORIES:Visiting Hopetoun House
ATTACH;FMTTYPE=image/jpeg:https://hopetoun.co.uk/wp-hopetoun-house/wp-content/uploads/JulietteLichmanPhotography__KateRoss_Wedding344_sml.jpg
END:VEVENT
END:VCALENDAR