BEGIN:VCALENDAR
VERSION:2.0
PRODID:-//Hopetoun - ECPv6.15.15//NONSGML v1.0//EN
CALSCALE:GREGORIAN
METHOD:PUBLISH
X-WR-CALNAME:Hopetoun
X-ORIGINAL-URL:https://hopetoun.co.uk
X-WR-CALDESC:Events for Hopetoun
REFRESH-INTERVAL;VALUE=DURATION:PT1H
X-Robots-Tag:noindex
X-PUBLISHED-TTL:PT1H
BEGIN:VTIMEZONE
TZID:Europe/London
BEGIN:DAYLIGHT
TZOFFSETFROM:+0000
TZOFFSETTO:+0100
TZNAME:BST
DTSTART:20240331T010000
END:DAYLIGHT
BEGIN:STANDARD
TZOFFSETFROM:+0100
TZOFFSETTO:+0000
TZNAME:GMT
DTSTART:20241027T010000
END:STANDARD
BEGIN:DAYLIGHT
TZOFFSETFROM:+0000
TZOFFSETTO:+0100
TZNAME:BST
DTSTART:20250330T010000
END:DAYLIGHT
BEGIN:STANDARD
TZOFFSETFROM:+0100
TZOFFSETTO:+0000
TZNAME:GMT
DTSTART:20251026T010000
END:STANDARD
BEGIN:DAYLIGHT
TZOFFSETFROM:+0000
TZOFFSETTO:+0100
TZNAME:BST
DTSTART:20260329T010000
END:DAYLIGHT
BEGIN:STANDARD
TZOFFSETFROM:+0100
TZOFFSETTO:+0000
TZNAME:GMT
DTSTART:20261025T010000
END:STANDARD
END:VTIMEZONE
BEGIN:VEVENT
DTSTART;TZID=Europe/London:20250126T110000
DTEND;TZID=Europe/London:20250126T160000
DTSTAMP:20260421T064134
CREATED:20241218T164009Z
LAST-MODIFIED:20241218T164632Z
UID:9685-1737889200-1737907200@hopetoun.co.uk
SUMMARY:Wedding Showcase Event
DESCRIPTION:Whether you are considering Hopetoun House to host your special day\, or you have already booked your wedding at Hopetoun\, we would be delighted to welcome you and your bridal party to Hopetoun. \nOn the day you will have the opportunity to see the event spaces and our experienced team will be available to discuss your plans and answer any questions you may have. \nYou will also have the opportunity to meet with our preferred suppliers to see how they can enhance your day. \nThis exclusive event is strictly by appointment only so please contact a member of our weddings team on weddings@hopetoun.co.uk or call 0131 331 2451 to make your personal appointment. \nImage – Jenni & Sean by Duke Photography
URL:https://hopetoun.co.uk/event/wedding-showcase-event-6/
LOCATION:Hopetoun House
ATTACH;FMTTYPE=image/jpeg:https://hopetoun.co.uk/wp-hopetoun-house/wp-content/uploads/JenniandSean_010624RR-0961-scaled.jpg
END:VEVENT
END:VCALENDAR